Workbook

Sheet Santo Domingo Construye
C2: PLAN OPERATIVO ANUAL 2.025
C3: Dirección / Unidad: | K3: Empresa Pública Provincial
C4: Periodo de ejecución: | K4: Enero - Diciembre
A6: Objetivos de Desarrollo Sostenible: | B6: Garantizar una vida sana y promover el bienestar para todos en todas las edades
A7: Objetivos Nacionales: | B7: Mejorar las condiciones de vida de la población de forma integral, promoviendo el acceso equitativo a salud, vivienda y bienestar social.
A8: Objetivos Provinciales: | B8: Promover la movilidad social ascendente de toda la población, especialmente los grupos vulnerables, mediante la integración de la cultura, el deporte y la garantía de derechos.
A10: Proceso: | B10: Transferencia a Empresa Pública Provincial para grupos de atención prioritaria
A12: Resultado 1 / Componente 1 | B12: Indicador de gestión | C12: Método de cálculo | K12: Programación de meta trimestral
K13: 1 | L13: 2 | M13: 3 | N13: 4
A14: Transferencia Realizada | B14: Porcentaje de recursos asignados que se transfieren en el año 2.025 a la Empresa Pública Provincial | C14: (Valor transferido/valor programado a transferir)x 100 | K14: 0.25 | L14: 0.25 | M14: 0.25 | N14: 0.25
B16: Actividades | C16: Cronograma | O16: Valor Asignado | P16: I Reforma | Q16: II Reforma | R16: III Reforma | S16: IV Reforma | T16: V Reforma | U16: VI Reforma | V16: VII Reforma | W16: VIII Reforma | X16: Total | Y16: Partida Presupuestaria
C17: E | D17: F | E17: M | F17: A | G17: M | H17: J | I17: J | J17: A | K17: S | L17: O | M17: N | N17: D | Y17: Código | Z17: Denominación
A18: 1 | B18: Transferencia a Empresa Pública Provincial para grupos de atención prioritaria | O18: 610869.74 | X18: =SUM(O18:W18) -> 610869.74 | Y18: 21.58.01.03 | Z18: a Empresas públicas
O19: 1425362.7 | X19: =SUM(O19:W19) -> 1425362.7 | Y19: 21.78.01.03 | Z19: a Empresas públicas
B20: SUBTOTAL 1 | O20: =SUM(O18:O19) -> 2036232.5 | P20: =SUM(P18:P19) -> 0 | Q20: =SUM(Q18:Q19) -> 0 | R20: =SUM(R18:R19) -> 0 | S20: =SUM(S18:S19) -> 0 | T20: =SUM(T18:T19) -> 0 | U20: =SUM(U18:U19) -> 0 | V20: =SUM(V18:V19) -> 0 | ... X20: =SUM(X18:X19) -> 2036232.5
B22: TOTAL DEL PROYECTO | O22: =O20 -> 2036232.5 | P22: =P20 -> 0 | Q22: =Q20 -> 0 | R22: =R20 -> 0 | S22: =S20 -> 0 | T22: =T20 -> 0 | U22: =U20 -> 0 | V22: =V20 -> 0 | ... X22: =X20 -> 2036232.5

Sheet Resumen
A7: RESUMEN PLAN OPERATIVO ANUAL 2.025 - EMPRESA PÚBLICA PROVINCIAL
A9: Nº | B9: Proyecto | C9: Valor Asignado | D9: I Reforma | E9: II Reforma | F9: III Reforma | G9: IV Reforma | H9: V Reforma | I9: VI Reforma | J9: VII Reforma | K9: VIII Reforma | L9: Total
A10: 1 | B10: ='Santo Domingo Construye'!B10 -> Transferencia a Empresa Pública Provincial para grupos de atención prioritaria | C10: ='Santo Domingo Construye'!O22 -> 2036232.5 | D10: ='Santo Domingo Construye'!P22 -> 0 | E10: ='Santo Domingo Construye'!Q22 -> 0 | F10: ='Santo Domingo Construye'!R22 -> 0 | G10: ='Santo Domingo Construye'!S22 -> 0 | H10: ='Santo Domingo Construye'!T22 -> 0 | I10: ='Santo Domingo Construye'!U22 -> 0 | K10: ='Santo Domingo Construye'!W22 -> 0 | L10: ='Santo Domingo Construye'!X22 -> 2036232.5
B11: Total | C11: =SUM(C10:C10) -> 2036232.5 | D11: =SUM(D10:D10) -> 0 | E11: =SUM(E10:E10) -> 0 | F11: =SUM(F10:F10) -> 0 | G11: =SUM(G10:G10) -> 0 | H11: =SUM(H10:H10) -> 0 | I11: =SUM(I10:I10) -> 0 | J11: =SUM(J10:J10) -> 0 | ... L11: =SUM(L10:L10) -> 2036232.5
