Workbook

Sheet Reforestación
C2: PLAN OPERATIVO ANUAL 2025
C3: Dirección / Unidad: | K3: Gestión Ambiental
C4: Periodo de ejecución: | K4: Enero- Diciembre
A5: ODS: | B5: Objetivo 13: Adoptar medidas urgentes para combatir el cambio climático y sus efectos Objetivo 15: Gestionar sosteniblemente los bosques, luchar contra la desertificación, detener e invertir la degradación de las tierras y detener la pérdida de biodiversidad
A6: Objetivos Nacionales: | B6: Precautelar el uso responsable de los recursos naturales con un entorno ambientalmente sostenible
A7: Objetivos Provinciales: | B7: Promover el desarrollo sostenible en la Provincia priorizando la conservación y restauración del patrimonio natural a más del cumplimiento de la competencia ambiental en la Provincia.
A8: Objetivos Estratégicos (GPR) | B8: Reducir la vulnerabilidad Ambiental
A9: Proyecto: | B9: Restauración y reforestación de áreas degradadas y conservación del patrimonio hídrico de la Provincia de Santo Domingo de los Tsáchilas
A10: Objetivo: | B10: Restaurar y reforestar áreas degradadas de la Provincia con fines de protección y conservación del patrimonio hídrico como medida de adaptación y mitigación al cambio climático.
A12: Resultado 1/ Componente 1 | B12: Indicador | C12: Método de cálculo | K12: Meta trimestral
K13: 1 | L13: 2 | M13: 3 | N13: 4
A14: Reforestación / restauración desde la demanda social e institucional atendidas | B14: Número de hectáreas reforestadas / restauradas | C14: Sumatoria de hectáreas reforestadas / restauradas | K14: 10 | L14: 10 | M14: 0 | N14: 5
B15: Número de beneficiarios atendidos | C15: Sumatoria de beneficiarios atendidos | K15: 75 | L15: 75 | M15: 75 | N15: 75
B16: Actividades | C16: Cronograma | O16: Valor Asignado | P16: I Reforma | Q16: II Reforma | R16: III Reforma | S16: IV Reforma | T16: V Reforma | U16: VI Reforma | V16: VII Reforma | W16: VIII Reforma | X16: Total | Y16: Partida
C17: E | D17: F | E17: M | F17: A | G17: M | H17: J | I17: J | J17: A | K17: S | L17: O | M17: N | N17: D | Y17: Código | Z17: Denominación
A18: 1 | B18: Socialización del proyecto de restauración y reforestación | O18: 0 | X18: =SUM(O18:W18) -> 0
A19: 2 | B19: Inspección de campo | O19: 0 | X19: =SUM(O19:W19) -> 0
A20: 3 | B20: Elaboración de informes técnicos y convenios | O20: 0 | X20: =SUM(O20:W20) -> 0
A21: 4 | B21: Ejecución de mingas comunitarias de reforestación / restauración | O21: 0 | X21: =SUM(O21:W21) -> 0
A22: 5 | B22: Seguimiento y control de sobrevivencia de plantas reforestadas | O22: 0 | X22: =SUM(O22:W22) -> 0
A23: 6 | B23: Contratación de Promotoras (LOSEP) | O23: 17592 | T23: -8796 | X23: =SUM(O23:W23) -> 8796 | Y23: 44.71.05.10 | Z23: Servicios personales por contrato
O24: 1466 | T24: -733 | X24: =SUM(O24:W24) -> 733 | Y24: 44.71.02.03 | Z24: Décimo tercer sueldo
O25: 950 | T25: -475 | X25: =SUM(O25:W25) -> 475 | Y25: 44.71.02.04 | Z25: Décimo cuarto sueldo
O26: 2050 | T26: -1025 | X26: =SUM(O26:W26) -> 1025 | Y26: 44.71.06.01 | Z26: Aporte Patronal
O27: 1466 | T27: -733 | X27: =SUM(O27:W27) -> 733 | Y27: 44.71.06.02 | Z27: Fondos de reserva
O28: 900 | T28: -450 | V28: -400 | X28: =SUM(O28:W28) -> 50 | Y28: 44.71.07.07 | Z28: Compensación por vacaciones no gozadas por cesación de funciones
A29: 7 | B29: Reforestación / restauración en obras de cogestión y áreas mineras del GADPSDT | O29: 0 | X29: =SUM(O29:W29) -> 0
A30: 8 | B30: Contratación del servicio de mantenimiento del proyector adquirido por orden de compra No IC-GADPSDT-062-2023 | O30: 200 | X30: =SUM(O30:W30) -> 200 | Y30: 44.73.04.04 | Z30: Maquinaria y equipos (instalación, mantenimiento y reparación)
A31: 9 | B31: Contratación del servicio de mantenimiento por vigencia tecnológica equipos informáticos adquiridos por orden de compra CE-20230002475879 | O31: 600 | X31: =SUM(O31:W31) -> 600 | Y31: 44.73.07.04 | Z31: Mantenimiento y Reparación de Equipos y Sistemas Informáticos
A32: 10 | B32: Contratación de servicio de laboratorio para realizar exámenes ocupacionales y post ocupacionales al personal de bajo régimen de la LOSEP | O32: 161 | X32: =SUM(O32:W32) -> 161 | Y32: 44.73.02.26 | Z32: Servicios Médicos Hospitalarios y Complementarios
A33: 11 | B33: Contratación del servicio de mantenimiento por vigencia tecnológica de equipos informáticos adquiridos por orden de compra CE-20230002475881 | O33: 70 | X33: =SUM(O33:W33) -> 70 | Y33: 44.73.07.04 | Z33: Mantenimiento y Reparación de Equipos y Sistemas Informáticos
A34: 12 | B34: Compra de pasajes al exterior | T34: 800 | W34: -800 | X34: =SUM(O34:W34) -> 0 | Y34: 44.73.03.02 | Z34: Pasajes al exterior
A35: 13 | B35: Pago de viáticos y subsistencias para personal de LOSEP | T35: 736.02 | V35: 1048.5 | W35: -1784.52 | X35: =SUM(O35:W35) -> 0 | Y35: 44.73.03.04 | Z35: Viáticos y subsistencias en el exterior
B36: SUBTOTAL | O36: =SUM(O18:O35) -> 25455 | P36: =SUM(P18:P35) -> 0 | Q36: =SUM(Q18:Q35) -> 0 | R36: =SUM(R18:R35) -> 0 | S36: =SUM(S18:S35) -> 0 | T36: =SUM(T18:T35) -> -10675.98 | U36: =SUM(U18:U35) -> 0 | V36: =SUM(V18:V35) -> 648.5 | ... X36: =SUM(X18:X35) -> 12843
A38: Resultado 2/ Componente 2 | B38: Indicador / Meta | C38: Método de cálculo | K38: Meta trimestral
K39: 1 | L39: 2 | M39: 3 | N39: 4
A40: Producción de plantas en el vivero forestal | B40: Número de plantas entregadas en el vivero agroforestal del GAD Provincial, para la conservación de los recursos naturales. | C40: Sumatoria de plantas entregadas en el vivero forestal | K40: 31250 | L40: 31250 | M40: 31250 | N40: 31250
B41: Has restauradas por demanda social | C41: Sumatoria de has restauradas por demanda social | K41: 38 | L41: 38 | M41: 38 | N41: 40
B42: Actividades | C42: Cronograma | O42: Valor Asignado | P42: I Reforma | Q42: II Reforma | R42: III Reforma | S42: IV Reforma | T42: V Reforma | U42: VI Reforma | V42: VII Reforma | W42: VIII Reforma | X42: Total | Y42: Partida
C43: E | D43: F | E43: M | F43: A | G43: M | H43: J | I43: J | J43: A | K43: S | L43: O | M43: N | N43: D | Y43: Código | Z43: Denominación
...

Sheet Educación 
C2: PLAN OPERATIVO ANUAL 2025
C3: Dirección / Unidad: | K3: Gestión Ambiental
C4: Periodo de ejecución: | K4: Enero- Diciembre
A6: Objetivos de Desarrollo Sostenible: | B6: Objetivo 13: Adoptar medidas urgentes para combatir el cambio climático y sus efectos.
A7: Objetivos Nacionales: | B7: Objetivo 7: Precautelar el uso responsable de los recursos naturales con un entorno ambientalmente sostenible.
A8: Objetivos Provinciales: | B8: Promover el desarrollo sostenible en la provincia priorizando la conservación y restauración del patrimonio natural a más del cumplimiento de la competencia ambiental en la provincia
A9: Objetivos Estratégicos (GPR) | B9: Reducir la vulnerabilidad Ambiental
A10: Proyecto | B10: Educación ambiental y cambio climático en la provincia Santo Domingo de los Tsáchilas
A11: Propósito/ Objetivo General | B11: Sensibilizar e incorporar nuevos valores en el manejo sostenible de los recursos naturales y conservación de la biodiversidad incluyendo criterios de cambio climático para la toma de conciencia de las comunidades, estudiantes y personas en la provincia.
A12: Resultado1 Componente 1 | B12: Indicador | C12: Método de cálculo | K12: Meta trimestral | O12: Línea base
K13: 1 | L13: 2 | M13: 3 | N13: 4
A14: Actividades de educación ambiental con criterios de cambio climático desarrolladas | B14: Número de personas capacitadas para fortalecer sus capacidades en temáticas ambientales y cambio climático | C14: Sumatoria de personas capacitadas para fortalecer sus capacidades | K14: 500 | L14: 1500 | M14: 1500 | N14: 1500 | O14: En el año 2019 se han capacitado1000 personas En el año 2020 se han capacitado 2676 personas En el año 2021 se han capacitado 3080 personas En el año 2022 se han capacitado 6567 personas En el año 2023 se han capacitado 4247 personas En el año 2024
B15: Número de visitantes a las áreas de conservación del SPAC y al Biocorredor El Armadillo realizadas | C15: Sumatoria de visitantes a las áreas de conservación del SPAC y al Biocorredor El Armadillo realizadas | L15: 200 | N15: 200
B16: Número de campañas de educación ambiental implementadas | C16: Sumatoria de campañas de educación ambiental implementadas | N16: 3 | O16: En el 2023 se han implementado 3 campañas de educación ambiental; Difusión de la biodiversidad de las Áreas de conservación; Consumo Responsable / Huertos orgánicos; y de Cambio Climático. En el 2024 se han implementado 3 campañas de educación ambiental; Difusión de la biodiversidad de las Áreas de conservación; Consumo Responsable - Huertos orgánicos / Más planeta menos plásticos ; y de Cambio Climático.
B17: Número de escuelas para el desarrollo sostenible establecidas | C17: Sumatoria de escuelas para desarrollo sostenible establecidas | N17: 1
B18: Número de mingas de limpieza realizadas | C18: Sumatoria de mingas realizadas | L18: 6 | N18: 6 | O18: 8 mingas de limpieza realizadas en 2021 7 mingas de limpieza realizadas en 2022 12 mingas de limpieza realizadas en 2023 mingas de limpieza realizadas en 2024
B19: Actividades | C19: Cronograma | O19: Valor Asignado | P19: I Reforma | Q19: II Reforma | R19: III Reforma | S19: IV Reforma | T19: V Reforma | U19: VI Reforma | V19: VII Reforma | W19: VIII Reforma | X19: Total | Y19: Partida
C20: E | D20: F | E20: M | F20: A | G20: M | H20: J | I20: J | J20: A | K20: S | L20: O | M20: N | N20: D | Y20: Código | Z20: Denominación
A21: 1 | B21: Contratación de personal para el proyecto | O21: =14544*3 -> 43632 | X21: =SUM(O21:W21) -> 43632 | Y21: 44.71.05.10 | Z21: Servicios personales por contrato
O22: =1212*3 -> 3636 | X22: =SUM(O22:W22) -> 3636 | Y22: 44.71.02.03 | Z22: Décimo tercer sueldo
O23: =(475*3)+100 -> 1525 | X23: =SUM(O23:W23) -> 1525 | Y23: 44.71.02.04 | Z23: Décimo cuarto sueldo
O24: =1695*3 -> 5085 | X24: =SUM(O24:W24) -> 5085 | Y24: 44.71.06.01 | Z24: Aporte Patronal
O25: =1212*3 -> 3636 | X25: =SUM(O25:W25) -> 3636 | Y25: 44.71.06.02 | Z25: Fondos de reserva
O26: =(1212*3)-1626 -> 2010 | V26: -1960 | X26: =SUM(O26:W26) -> 50 | Y26: 44.71.07.07 | Z26: Compensación por vacaciones no gozadas por cesación de funciones
A27: 2 | B27: Capacitaciones en temáticas ambientales con criterios de cambio climático | O27: 0 | X27: =SUM(O27:W27) -> 0
A28: 3 | B28: Visitas a las áreas de conservación del SPAC y al Biocorredor El Armadillo | O28: 0 | X28: =SUM(O28:W28) -> 0
A29: 4 | B29: Campañas de educación ambiental: -Difusión de la biodiversidad de las Áreas de conservación -Consumo Responsable / Huertos orgánicos -Cambio Climático | O29: 0 | X29: =SUM(O29:W29) -> 0
A30: 5 | B30: Escuela de líderes para el desarrollo sostenible | O30: 0 | X30: =SUM(O30:W30) -> 0
A31: 6 | B31: Mingas de limpieza en la provincia de Santo Domingo de los Tsáchilas | O31: 0 | X31: =SUM(O31:W31) -> 0
A32: 7 | B32: Contratación de servicio de laboratorio para realizar exámenes ocupacionales y post ocupacionales al personal de bajo régimen de la LOSEP | O32: 250 | X32: =SUM(O32:W32) -> 250 | Y32: 44.73.02.26 | Z32: Servicios Médicos Hospitalarios y Complementarios
A33: 8 | B33: Contratación del servicio de mantenimiento por vigencia tecnológica de computadora portátil | O33: 200 | X33: =SUM(O33:W33) -> 200 | Y33: 44.73.07.04 | Z33: Mantenimiento y Reparación de Equipos y Sistemas Informáticos
A34: 9 | B34: Adquisición de armarios para archivo de documentos del proyecto | V34: 1500 | X34: =SUM(O34:W34) -> 1500 | Y34: 44.73.14.03 | Z34: Mobiliarios
B35: TOTAL | O35: =SUM(O21:O34) -> 59974 | P35: =SUM(P21:P34) -> 0 | Q35: =SUM(Q21:Q34) -> 0 | R35: =SUM(R21:R34) -> 0 | S35: =SUM(S21:S34) -> 0 | T35: =SUM(T21:T34) -> 0 | U35: =SUM(U21:U34) -> 0 | V35: =SUM(V21:V34) -> -460 | ... X35: =SUM(X21:X34) -> 59514

Sheet Autoridad Amb
C1: PLAN OPERATIVO ANUAL 2025
C2: Dirección / Unidad: | K2: Gestión Ambiental
C3: Periodo de ejecución: | K3: Enero- Diciembre
A5: Objetivos de Desarrollo Sostenible: | B5: Objetivo 6: Garantizar la disponibilidad de agua y su gestión sostenible y el saneamiento para todos
A6: Objetivos Nacionales: | B6: Precautelar el uso responsable de los recursos naturales con un entorno ambientalmente sostenible
A7: Objetivos Provinciales: | B7: Promover el desarrollo sostenible en la provincia priorizando la conservación y restauración del patrimonio natural a más del cumplimiento de la competencia ambiental en la provincia
A8: Objetivos Estratégicos en GPR | B8: Reducir la vulnerabilidad ambiental
A9: Proyecto | B9: Ejecución de la competencia como Autoridad Ambiental
A10: Objetivo | B10: Regularizar, controlar y dar seguimiento a las actividades que generen un impacto al ambiente mediante mecanismos de prevención, control, seguimiento y procesos administrativos
A13: Resultado 1/ Componente 1 | B13: Indicador | C13: Método de cálculo | K13: Meta Trimestral | O13: Línea base
K14: 1 | L14: 2 | M14: 3 | N14: 4
A15: Regularización Ambiental | B15: Autorizaciones administrativas y certificados ambientales emitidas | C15: Autorizaciones administrativas y certificados ambientales emitidas | K15: 45 | L15: 45 | M15: 45 | N15: 45 | O15: En el año 2023 se emitieron a través de la plataforma SUIA 203 certificados generados automáticamente, 43 registros y 3 licencias ambientales, con un total de 249 documentos ambientales.
B16: Actividades | C16: Cronograma | O16: Valor Asignado | P16: I Reforma | Q16: II Reforma | R16: III Reforma | S16: IV Reforma | T16: V Reforma | U16: VI Reforma | V16: VII Reforma | W16: VII Reforma | X16: Total | Y16: Partida
C17: E | D17: F | E17: M | F17: A | G17: M | H17: J | I17: J | J17: A | K17: S | L17: O | M17: N | N17: D | Y17: Código | Z17: Denominación
A18: 1 | B18: Proceso de emisión de certificados ambientales | O18: 0 | X18: =SUM(O18:W18) -> 0
A19: 2 | B19: Proceso de emisión de registros ambientales | O19: 0 | X19: =SUM(O19:W19) -> 0
A20: 3 | B20: Proceso de emisión de licencias ambientales | O20: 0 | X20: =SUM(O20:W20) -> 0
B21: SUBTOTAL | O21: =SUM(O18:O20) -> 0 | P21: =SUM(P18:P20) -> 0 | Q21: =SUM(Q18:Q20) -> 0 | R21: =SUM(R18:R20) -> 0 | S21: =SUM(S18:S20) -> 0 | T21: =SUM(T18:T20) -> 0 | U21: =SUM(U18:U20) -> 0 | V21: =SUM(V18:V20) -> 0 | ... X21: =SUM(X18:X20) -> 0
A23: Resultado 2 / Componente 2 | B23: Indicador | C23: Método de cálculo | K23: Meta Trimestral | O23: Línea base
K24: 1 | L24: 2 | M24: 3 | N24: 4
A25: Mecanismos de control y seguimiento ambiental | B25: Número de trámites atendidos de control y seguimiento ambiental | C25: Sumatoria de trámites atendidos | K25: 240 | L25: 240 | M25: 240 | N25: 240 | O25: En el año 2023 se atendieron 1158 trámites de los distintos mecanismos de control y seguimiento ambiental
B26: Número de inspecciones realizadas por control y seguimiento | C26: Sumatoria de inspecciones realizadas | K26: 30 | L26: 30 | M26: 30 | N26: 30 | O26: En el año 2023 se realizaron 200 inspecciones de control y seguimiento ambiental
B27: Actividades | C27: Cronograma | O27: Valor Asignado | P27: I Reforma | Q27: II Reforma | R27: III Reforma | S27: IV Reforma | T27: V Reforma | U27: VI Reforma | V27: VII Reforma | W27: VIII Reforma | X27: Total | Y27: Partida
C28: E | D28: F | E28: M | F28: A | G28: M | H28: J | I28: J | J28: A | K28: S | L28: O | M28: N | N28: D | Y28: Código | Z28: Denominación
A29: 1 | B29: Inspecciones por control y seguimiento ambiental | O29: 0 | X29: =SUM(O29:W29) -> 0
A30: 2 | B30: Revisión de plan de acción, plan emergente, plan de rehabilitación, plan de cierre y abandono, diagnóstico ambiental, cambio de titular y suspensión de obligaciones | O30: 0 | X30: =SUM(O30:W30) -> 0
A31: 3 | B31: Revisión de informes ambientales de cumplimiento, informes de gestión anual, términos de referencia para AAC y auditoría ambiental de cumplimiento | O31: 0 | X31: =SUM(O31:W31) -> 0
A32: 4 | B32: Revisión de monitoreo ambientales, acompañamiento a toma de muestras | O32: 0 | X32: =SUM(O32:W32) -> 0
A33: 5 | B33: Revisión de estudios de impacto ambiental Ex Ante y Ex post de otros sectores y sector Hidrocarburífero. | O33: 0 | X33: =SUM(O33:W33) -> 0
A34: 6 | B34: Elaborar y presentar las obligaciones como Autoridad Ambiental de Aplicación responsable a la AAN (Informe, Plan Operativo y Plan de control y regularización) | O34: 0 | X34: =SUM(O34:W34) -> 0
A35: 7 | B35: Seguimiento de autorizaciones administrativas | O35: 0 | X35: =SUM(O35:W35) -> 0
A36: 8 | B36: Procesamiento de los expedientes de mecanismos de control y seguimiento | O36: 0 | X36: =SUM(O36:W36) -> 0
A37: 9 | B37: Notificación de pronunciamientos AAAr y comisaria ambiental | O37: 0 | X37: =SUM(O37:W37) -> 0
A38: 10 | B38: Informe Jurídicos y Resoluciones | O38: 0 | X38: =SUM(O38:W38) -> 0
A39: 11 | B39: Contratación de personal para el proyecto | O39: 145440 | Q39: -2424 | X39: =SUM(O39:W39) -> 143016 | Y39: 44.71.05.10 | Z39: Servicios personales por contrato
O40: 12120 | X40: =SUM(O40:W40) -> 12120 | Y40: 44.71.02.03 | Z40: Décimo tercer sueldo
O41: 4850 | X41: =SUM(O41:W41) -> 4850 | Y41: 44.71.02.04 | Z41: Décimo cuarto sueldo
O42: 16950 | X42: =SUM(O42:W42) -> 16950 | Y42: 44.71.06.01 | Z42: Aporte Patronal
O43: 12120 | X43: =SUM(O43:W43) -> 12120 | Y43: 44.71.06.02 | Z43: Fondos de reserva
O44: 7140 | V44: -7090 | X44: =SUM(O44:W44) -> 50 | Y44: 44.71.07.07 | Z44: Compensación por vacaciones no gozadas por cesación de funciones
...

Sheet Regularización
C2: PLAN OPERATIVO ANUAL 2025
C3: Dirección / Unidad: | K3: Gestión Ambiental
C4: Periodo de ejecución: | K4: Enero- Diciembre
A7: ODS | B7: Objetivo 9: Construir infraestructuras resilientes, promover la industrialización sostenible y fomentar la innovación.
A8: Objetivos Nacionales: | B8: Precautelar el uso responsable de los recursos naturales con un entorno ambientalmente sostenible
A9: Objetivos Provinciales: | B9: Promover el desarrollo sostenible en la Provincia priorizando la conservación y restauración del patrimonio natural a más del cumplimiento de la competencia ambiental en la Provincia.
A10: Objetivos Estratégicos en GPR | B10: Reducir la vulnerabilidad ambiental
A11: Proyecto | B11: Regularización Ambiental de Obras Internas del GAD Provincial
A12: Propósito | B12: Minimizar los impactos ambientales negativos provocados por la construcción de obras civiles y explotación de minas de material pétreo por parte del GAD - Provincial de Santo Domingo de los Tsáchilas.
A13: Resultado 1/ Componente 1 | B13: Indicador | C13: Método de cálculo | K13: Meta Trimestral | O13: Línea base
K14: 1 | L14: 2 | M14: 3 | N14: 4
A15: Obras, proyectos del GAD Provincial regularizadas ante el Ministerio del ambiente agua y transición ecológica | B15: Número de funcionarios y trabajadores capacitados en temas ambientales | C15: Sumatoria de funcionarios y trabajadores capacitados | K15: 20 | L15: 40 | M15: 40 | N15: 20
B16: Número de solicitudes generadas de seguimiento a autorizaciones administrativas | C16: Sumatoria de solicitudes generadas | K16: 10 | L16: 10 | M16: 10 | N16: 10
B17: Número de informes generados de control y seguimiento a actividades, obras y proyectos del GAD Provincial | C17: Sumatoria de informes generados | K17: 10 | L17: 10 | M17: 10 | N17: 10
B18: Porcentaje de obras que ejecuta el GAD Provincial regularizadas ante el Ministerio del Ambiente Agua y transición ecológica | C18: Número de obras regularizadas/número de regularizaciones solicitadas por el GAD Provincial | L18: 0.25 | M18: 0.5 | N18: 0.25
B19: Actividades | C19: Cronograma | O19: Valor Asignado | P19: I Reforma | Q19: II Reforma | R19: III Reforma | S19: IV Reforma | T19: V Reforma | U19: VI Reforma | V19: VII Reforma | W19: VIII Reforma | X19: Total | Y19: Partida
C20: E | D20: F | E20: M | F20: A | G20: M | H20: J | I20: J | J20: A | K20: S | L20: O | M20: N | N20: D | Y20: Código | Z20: Denominación
A21: 1 | B21: Acompañamiento, seguimiento y supervisión ambiental de proyectos u obras civiles que ejecuta el GAD Provincial. | O21: 0 | X21: =SUM(O21:W21) -> 0
A22: 2 | B22: Regularización de actividades, obras y proyectos del GADPSDT en el Sistema Único de Información Ambiental | O22: 0 | X22: =SUM(O22:W22) -> 0
A23: 3 | B23: Elaboración de documentos para cumplimiento de obligaciones ambientales y normativa ambiental vigente (IAC, planes de acción, planes emergentes, planes de cierre y abandono, solicitudes de extinción) de actividades, obras y proyectos del GADPSDT | O23: 0 | X23: =SUM(O23:W23) -> 0
A24: 4 | B24: Capacitaciones ambientales para el cumplimiento de planes de manejo ambiental, planes de acción, planes emergentes. | O24: 0 | X24: =SUM(O24:W24) -> 0
A25: 5 | B25: Realizar el pago de tasas ambientales de proyectos que ejecuta el GAD - Provincial | O25: 5030 | Q25: 558 | T25: -2000 | W25: -2000 | X25: =SUM(O25:W25) -> 1588 | Y25: 44.77.01.02 | Z25: Tasas generales, impuestos, contribuciones, permisos, licencias y patentes
B26: TOTAL | O26: =SUM(O21:O25) -> 5030 | P26: =SUM(P21:P25) -> 0 | Q26: =SUM(Q21:Q25) -> 558 | R26: =SUM(R21:R25) -> 0 | S26: =SUM(S21:S25) -> 0 | T26: =SUM(T21:T25) -> -2000 | U26: =SUM(U21:U25) -> 0 | V26: =SUM(V21:V25) -> 0 | ... X26: =SUM(X21:X25) -> 1588
A28: Resultado 2/ Componente 2 | B28: Indicador | C28: Método de cálculo | K28: Meta Trimestral | O28: Línea base
K29: 1 | L29: 2 | M29: 3 | N29: 4
A30: Campañas y/o estrategias de prevención y reducción de la contaminación y fomento de la economía circular ejecutadas | B30: Numero de campañas y/o estrategias ejecutadas | C30: Sumatoria de campañas | K30: 1 | L30: 1 | M30: 1 | N30: 1 | O30: En el 2023 se han ejecutado 4 campañas
B31: Actividades | C31: Cronograma | O31: Valor Asignado | P31: I Reforma | Q31: II Reforma | R31: III Reforma | S31: IV Reforma | T31: V Reforma | U31: VI Reforma | V31: VII Reforma | W31: VIII Reforma | X31: Total | Y31: Partida
C32: E | D32: F | E32: M | F32: A | G32: M | H32: J | I32: J | J32: A | K32: S | L32: O | M32: N | N32: D | Y32: Código | Z32: Denominación
A33: 1 | B33: Ejecución de estrategias de buenas prácticas ambientales en las oficinas del GAD Provincial y sensibilización ambiental | O33: 0 | X33: =SUM(O33:W33) -> 0
A34: 2 | B34: Ejecución de campañas ambientales de recepción de RAEE para reducir la contaminación ambiental / Ecotrueque | O34: 0 | X34: =SUM(O34:W34) -> 0
B35: SUBTOTAL | O35: =SUM(O33:O34) -> 0 | P35: =SUM(P33:P34) -> 0 | Q35: =SUM(Q33:Q34) -> 0 | R35: =SUM(R33:R34) -> 0 | S35: =SUM(S33:S34) -> 0 | T35: =SUM(T33:T34) -> 0 | U35: =SUM(U33:U34) -> 0 | V35: =SUM(V33:V34) -> 0 | ... X35: =SUM(X33:X34) -> 0
A38: Resultado 3/ Componente 3 | B38: Indicador | C38: Método de cálculo | K38: Meta Trimestral | O38: Línea base
K39: 1 | L39: 2 | M39: 3 | N39: 4
A40: Contrataciones para cumplimiento de la planificación cumplidas | B40: Numero de contrataciones ejecutadas / numero de contrataciones planificadas | C40: Sumatoria de contrataciones | L40: 1 | M40: 1 | N40: 1
B41: Actividades | C41: Cronograma | O41: Valor Asignado | P41: I Reforma | Q41: II Reforma | R41: III Reforma | S41: IV Reforma | T41: V Reforma | U41: VI Reforma | V41: VII Reforma | W41: VIII Reforma | X41: Total | Y41: Partida
C42: E | D42: F | E42: M | F42: A | G42: M | H42: J | I42: J | J42: A | K42: S | L42: O | M42: N | N42: D | Y42: Código | Z42: Denominación
A43: 1 | B43: Contratación de servicio de recolección, transporte y disposición final de desechos peligrosos. | O43: 4000 | X43: =SUM(O43:W43) -> 4000 | Y43: 44.73.02.09 | Z43: Servicios de aseo, lavado de vestimenta de trabajo, fumigación, desinfección, limpieza de instalaciones, manejo de desechos contaminados, recuperación y clasificación de materiales reciclables
A44: 2 | B44: Contratación de servicio de poda especializada de arboles que se encuentren en proyectos que ejecuta el GAD Provincial | O44: 50 | W44: -50 | X44: =SUM(O44:W44) -> 0 | Y44: 44.73.04.18 | Z44: Mantenimiento de Áreas Verdes y Arreglo de Vías Internas
A45: 3 | B45: Contratación del servicio de mantenimiento por vigencia tecnológica de equipos informáticos adquiridos CE 20230002475880 | O45: 150 | W45: -120 | X45: =SUM(O45:W45) -> 30 | Y45: 44.73.07.04 | Z45: Mantenimiento y Reparación de Equipos y Sistemas Informáticos
A46: 4 | B46: Adquisición de señalética ambiental para las minas del GAD Provincial en cumplimiento al Plan de Manejo Ambiental | O46: 5000 | W46: -5000 | X46: =SUM(O46:W46) -> 0 | Y46: 44.73.08,07 | Z46: Materiales de impresión, fotografía, reproducción y publicaciones
...

Sheet Conservación
C1: PLAN OPERATIVO ANUAL 2025
C2: Dirección / Unidad: | K2: Gestión Ambiental
C3: Periodo de ejecución: | K3: Enero- Diciembre
A5: Objetivos de Desarrollo Sostenible | B5: Objetivo 15: Gestionar sosteniblemente los bosques, luchar contra la desertificación, detener e invertir la degradación de las tierras y detener la pérdida de biodiversidad
A6: Objetivos Nacionales: | B6: Precautelar el uso responsable de los recursos naturales con un entorno ambientalmente sostenible
A7: Objetivos Provinciales: | B7: Promover el desarrollo sostenible en la provincia priorizando la conservación y restauración del patrimonio natural a más del cumplimiento de la competencia ambiental en la provincia
A8: Objetivos Estratégicos (GPR) | B8: Reducir la vulnerabilidad Ambiental
A9: Proyecto | B9: Conservación del patrimonio natural de la provincia de Santo Domingo de los Tsáchilas
A10: Propósito/ Objetivo General | B10: Garantizar la superficie boscosa en el territorio provincial
A12: Resultado 1 Componente 1 | B12: Indicador | C12: Método de cálculo | K12: Meta trimestral
K13: 1 | L13: 2 | M13: 3 | N13: 4
A14: Sistema de áreas de conservación de la provincia de Santo Domingo de los Tsáchilas impulsado | B14: Número de informes técnicos para el proceso de declaratoria de Áreas de conservación elaborados | C14: Sumatoria de informes técnicos elaborados | L14: 1 | O14: Once informes técnicos
B15: Número de áreas de conservación declaradas | C15: Sumatoria de hectáreas bajo una categoría de conservación local | N15: 1 | O15: Once área de conservación
B16: Número de Planes de Manejo elaborados | C16: Sumatoria de planes de manejo | M16: 1 | N16: 1 | O16: Ocho Planes de Manejo
B17: Actividades | C17: Cronograma | O17: Valor Asignado | P17: I Reforma | Q17: II Reforma | R17: III Reforma | S17: IV Reforma | T17: V Reforma | U17: VI Reforma | V17: VII Reforma | W17: VIII Reforma | X17: Total | Y17: Partida
C18: E | D18: F | E18: M | F18: A | G18: M | H18: J | I18: J | J18: A | K18: S | L18: O | M18: N | N18: D | Y18: Código | Z18: Denominación
A19: 1 | B19: Elaborar planes de manejo para las áreas de Conservación | O19: 0 | X19: =SUM(O19:W19) -> 0
A20: 2 | B20: Socialización ordenanzas para creación de Áreas de Conservación | O20: 0 | X20: =SUM(O20:W20) -> 0
A21: 3 | B21: Elaborar informes técnicos para la Declaratoria de Áreas de Conservación | O21: 0 | X21: =SUM(O21:W21) -> 0
A22: 4 | B22: Socialización del proyecto en zonas prioritarias de conservación | O22: 0 | X22: =SUM(O22:W22) -> 0
A23: 5 | B23: Apoyar y/o gestionar la implementación de acciones identificadas en los planes de manejo de las áreas de conservación ante los otros niveles de gobierno y el sector privado como un mecanismo de compensación frente a la conservación de los bosques | O23: 0 | X23: =SUM(O23:W23) -> 0
A24: 6 | B24: Ejecutar gira de intercambio de experiencias entre los propietarios de las áreas de conservación | O24: 0 | X24: =SUM(O24:W24) -> 0
B25: SUBTOTAL | O25: 0 | P25: 0 | Q25: 0 | R25: 0 | S25: 0 | T25: 0 | U25: 0 | V25: 0 | W25: 0 | X25: 0
A27: Resultado 2 Componente 2 | B27: Indicador | C27: Método de cálculo | K27: Meta trimestral
K28: 1 | L28: 2 | M28: 3 | N28: 4
A29: Línea base biótica de la provincia levantada | B29: Número de informes de monitoreo de fauna | C29: Sumatoria de informes de monitoreo de fauna | K29: 1 | L29: 1 | M29: 1 | N29: 1 | O29: 12 Informe técnicos
B30: Actividades | C30: Cronograma | O30: Valor Asignado | P30: I Reforma | Q30: II Reforma | R30: III Reforma | S30: IV Reforma | T30: V Reforma | U30: VI Reforma | V30: VII Reforma | W30: VII Reforma | X30: Total | Y30: Partida
C31: E | D31: F | E31: M | F31: A | G31: M | H31: J | I31: J | J31: A | K31: S | L31: O | M31: N | N31: D | Y31: Código | Z31: Denominación
A32: 1 | B32: Personal para el proyecto | O32: 14544 | X32: =SUM(O32:W32) -> 14544 | Y32: 44.71.05.10 | Z32: Servicios personales por contrato
O33: 1212 | X33: =SUM(O33:W33) -> 1212 | Y33: 44.71.02.03 | Z33: Décimo tercer sueldo
O34: 500 | X34: =SUM(O34:W34) -> 500 | Y34: 44.71.02.04 | Z34: Décimo cuarto sueldo
O35: 1695 | X35: =SUM(O35:W35) -> 1695 | Y35: 44.71.06.01 | Z35: Aporte patronal
O36: 1212 | X36: =SUM(O36:W36) -> 1212 | Y36: 44.71.06.02 | Z36: Fondos de reserva
O37: =1212-80.5-53 -> 1078.5 | V37: -1028.5 | X37: =SUM(O37:W37) -> 50 | Y37: 44.71.07.07 | Z37: Compensación por vacaciones no gozadas por cesación de funciones
A38: 2 | B38: Inventario de peces en las áreas de conservación | O38: 0 | X38: =SUM(O38:W38) -> 0
A39: 3 | B39: Informe de monitoreo de fauna con cámaras trampa | O39: 0 | X39: =SUM(O39:W39) -> 0
A40: 4 | B40: Contratación de servicio de laboratorio para realizar exámenes ocupacionales y post ocupacionales al personal de bajo régimen de la LOSEP | O40: 90.5 | X40: =SUM(O40:W40) -> 90.5 | Y40: 44.73.02.26 | Z40: Servicios Médicos Hospitalarios y Complementarios
A41: 5 | B41: Adquisición y colocación de los rótulos para las área de conservación de la Provincia | O41: 6413.5 | W41: -6413.5 | X41: =SUM(O41:W41) -> 0 | Y41: 44.73.08.07 | Z41: Materiales de impresión, fotografía, reproducción y publicaciones
B42: SUBTOTAL | O42: =SUM(O32:O41) -> 26745.5 | P42: =SUM(P32:P41) -> 0 | Q42: =SUM(Q32:Q41) -> 0 | R42: =SUM(R32:R41) -> 0 | S42: =SUM(S32:S41) -> 0 | T42: =SUM(T32:T41) -> 0 | U42: =SUM(U32:U41) -> 0 | V42: =SUM(V32:V41) -> -1028.5 | ... X42: =SUM(X32:X41) -> 19303.5
B43: TOTAL PROYECTO | O43: =SUM(O42+O25) -> 26745.5 | P43: =SUM(P42+P25) -> 0 | Q43: =SUM(Q42+Q25) -> 0 | R43: =SUM(R42+R25) -> 0 | S43: =SUM(S42+S25) -> 0 | T43: =SUM(T42+T25) -> 0 | U43: =SUM(U42+U25) -> 0 | V43: =SUM(V42+V25) -> -1028.5 | ... X43: =SUM(X42+X25) -> 19303.5

Sheet Resumen
B8: RESUMEN POA 2025 DE LA DIRECCIÓN DE GESTIÓN AMBIENTAL
B9: Nº | C9: Proyecto | D9: Valor Asignado | E9: I Reforma | F9: II Reforma | G9: III Reforma | H9: IV Reforma | I9: V Reforma | J9: VI Reforma | K9: VIII Reforma | L9: VII Reforma | M9: Valor Total | N9: VALOR A CONTRATAR | O9: OTROS VALORES
B10: 1 | C10: Restauración y reforestación de áreas degradadas y conservación del patrimonio hídrico de la Provincia de Santo Domingo de los Tsáchilas | D10: =Reforestación!O102 -> 46007.5 | E10: =Reforestación!P102 -> 0 | F10: =Reforestación!Q102 -> 0 | G10: =Reforestación!R102 -> 0 | H10: =Reforestación!S102 -> 0 | I10: =Reforestación!T102 -> -1800 | J10: =Reforestación!U102 -> 0 | K10: =Reforestación!V102 -> 648.5 | ... M10: =Reforestación!X102 -> 41821.48
B11: 2 | C11: Educación ambiental y cambio climático en la provincia Santo Domingo de los Tsáchilas | D11: ='Educación '!O35 -> 59974 | E11: ='Educación '!P35 -> 0 | F11: ='Educación '!Q35 -> 0 | G11: ='Educación '!R35 -> 0 | H11: ='Educación '!S35 -> 0 | I11: ='Educación '!T35 -> 0 | J11: ='Educación '!U35 -> 0 | K11: ='Educación '!V35 -> -460 | ... M11: ='Educación '!X35 -> 59514
B12: 3 | C12: Ejecución de la competencia como Autoridad Ambiental | D12: ='Autoridad Amb'!O78 -> 214035 | E12: ='Autoridad Amb'!P78 -> 0 | F12: ='Autoridad Amb'!Q78 -> 0 | G12: ='Autoridad Amb'!R78 -> 0 | H12: ='Autoridad Amb'!S78 -> 0 | I12: ='Autoridad Amb'!T78 -> 0 | J12: ='Autoridad Amb'!U78 -> 0 | K12: ='Autoridad Amb'!V78 -> -3610 | ... M12: ='Autoridad Amb'!X78 -> 210256
B13: 4 | C13: Regularización Ambiental de Obras Internas del GAD Provincial | D13: =Regularización!O56 -> 20238 | E13: =Regularización!P56 -> 0 | F13: =Regularización!Q56 -> 0 | G13: =Regularización!R56 -> 0 | H13: =Regularización!S56 -> 0 | I13: =Regularización!T56 -> 0 | J13: =Regularización!U56 -> 0 | K13: =Regularización!V56 -> 4450 | ... M13: =Regularización!X56 -> 17518
B14: 5 | C14: Conservación del patrimonio natural de la provincia de Santo Domingo de los Tsáchilas | D14: =Conservación!O43 -> 26745.5 | E14: =Conservación!P43 -> 0 | F14: =Conservación!Q43 -> 0 | G14: =Conservación!R43 -> 0 | H14: =Conservación!S43 -> 0 | I14: =Conservación!T43 -> 0 | J14: =Conservación!U43 -> 0 | K14: =Conservación!V43 -> -1028.5 | ... M14: =Conservación!X43 -> 19303.5
C15: TOTAL | D15: =SUM(D10:D14) -> 367000 | E15: =SUM(E10:E14) -> 0 | F15: =SUM(F10:F14) -> 0 | G15: =SUM(G10:G14) -> 0 | H15: =SUM(H10:H14) -> 0 | I15: =SUM(I10:I14) -> -1800 | J15: =SUM(J10:J14) -> 0 | K15: =SUM(K10:K14) -> 0 | ... O15: =SUM(O10:O14) -> 0
