Workbook

Sheet Trabajo Social
G2: PLAN OPERATIVO ANUAL 2025
G3: Dirección / Unidad: | O3: GESTIÓN DE SEGURIDAD, SALUD OCUPACIONAL , BIENESTAR SOCIAL , RIESGOS Y DESASTRES NATURALES
G4: Periodo de ejecución: | O4: Enero-Diciembre
A6: Objetivos de Desarrollo Sostenible | B6: Garantizar una vida sana y promover el bienestar para todos en todas las edades
A7: Objetivos Nacionales: | B7: Propender la construcción de un Estado eficiente, transparente y orientado al bienestar social
A8: Objetivos Provinciales: | B8: Fortalecer la institucionalidad y gobernanza local, mediante prácticas transparentes con participación activa de la ciudadanía
A9: Objetivos en GPR | B9: Incrementar la eficiencia operacional
A10: Proceso: | B10: GESTIÓN SOCIAL EN BENEFICIO DE LOS SERVIDORES/AS PÚBLICOS DEL GADPDST
A11: Propósito / Objetivo | B11: Intervenir con sentido de responsabilidad, compromiso, eficiencia y eficacia en la atención de problemas y necesidades tanto individuales como colectivas , con el propósito de incidir en el mejoramiento de las condiciones de vida.
A12: Resultado 1 / Componente 1 | B12: Indicadores de Gestión Institucional | C12: Método de Cálculo | K12: Meta trimestral
K13: 1 | L13: 2 | M13: 3 | N13: 4
A14: Diagnóstico sociolaboral y familiar | B14: Porcentaje de Fichas Socio económicas actualizadas | C14: (Número de fichas actualizadas)/(Número del Personal del GADPSDT) *100 | K14: 25 | L14: 25 | M14: 25 | N14: 25
B15: Actividades | C15: Cronograma | O15: Valor Asignado | P15: I Reforma | Q15: II Reforma | R15: III Reforma | S15: IV Reforma | T15: V Reforma | U15: VI Reforma | V15: VII Reforma | W15: VIII Reforma | X15: Total | Y15: Partida Presupuestaria
C16: E | D16: F | E16: M | F16: A | G16: M | H16: J | I16: J | J16: A | K16: S | L16: O | M16: N | N16: D | Y16: Código | Z16: Denominación
A17: 1 | B17: Elaboración y actualización de fichas socioeconómicas | O17: 0 | X17: =SUM(O17:W17) -> 0
A18: 2 | B18: Realizar entrevistas a los servidores públicos ( código de trabajo y LOSEP) | O18: 0 | X18: =SUM(O18:W18) -> 0
A19: 3 | B19: Realizar visitas domiciliarias cuando los servidores públicos se encuentren con descanso medico, maternidad, paternidad o accidente de trabajo | O19: 0 | X19: =SUM(O19:W19) -> 0
A20: 4 | B20: Realizar visitas de campo en los diferentes frentes de trabajo | O20: 0 | X20: =SUM(O20:W20) -> 0
A21: 5 | B21: Elaborar informes sociales, calamidades domesticas, maternidad, paternidad, cuidado del recién nacido y otros que se encuentre considerados dentro de la ley | O21: 0 | X21: =SUM(O21:W21) -> 0
A22: 6 | B22: Llevar estadísticas se los servidores públicos ( código de trabajo y LOSEP) con discapacidad | O22: 0 | X22: =SUM(O22:W22) -> 0
A23: 7 | B23: Acompañamiento de los servidores públicos ( código de trabajo y LOSEP) en caso de emergencia al IESS | O23: 0 | X23: =SUM(O23:W23) -> 0
B24: TOTAL | O24: =SUM(O17:O23) -> 0 | P24: =SUM(P17:P23) -> 0 | Q24: =SUM(Q17:Q23) -> 0 | R24: =SUM(R17:R23) -> 0 | S24: =SUM(S17:S23) -> 0 | T24: =SUM(T17:T23) -> 0 | U24: =SUM(U17:U23) -> 0 | V24: =SUM(V17:V23) -> 0 | ... X24: =SUM(X17:X23) -> 0
A26: Resultado2 Componente 2 | B26: Indicadores de Gestión Institucional | C26: Método de Cálculo | K26: Meta trimestral
K27: 1 | L27: 2 | M27: 3 | N27: 4
A28: Garantizar los derechos de los servidores/as públicos del GADPSDT | B28: Porcentaje de servidores/as públicas beneficiados en los derechos de ley | C28: Numero de servidores/as públicas beneficiados en los derechos de ley | K28: 25 | L28: 25 | M28: 25 | N28: 25
B29: Actividades | C29: Cronograma | O29: Valor Asignado | P29: I Reforma | Q29: II Reforma | R29: III Reforma | S29: IV Reforma | T29: V Reforma | U29: VI Reforma | V29: VII Reforma | W29: VIII Reforma | X29: Total | Y29: Partida Presupuestaria
C30: E | D30: F | E30: M | F30: A | G30: M | H30: J | I30: J | J30: A | K30: S | L30: O | M30: N | N30: D | Y30: Código | Z30: Denominación
A31: 1 | B31: Contratación de Seguros de vida de los trabajadores pertenecientes al SUT del GADPSDT | O31: 10000 | X31: =SUM(O31:W31) -> 10000 | Y31: 45.77.02.01 | Z31: Seguros
A32: 2 | B32: Impartir talleres sobre los beneficios que cuentan los servidores públicos ( código de trabajo y LOSEP) | O32: 0 | X32: =SUM(O32:W32) -> 0
A33: 3 | B33: Coordinación y ejecución de convenios institucionales con empresas públicas y privadas | O33: 0 | X33: =SUM(O33:W33) -> 0
A34: 4 | B34: Llevar estadísticas de hijos de trabajadores/as ( código de trabajo) para el pago de subsidios | O34: 0 | X34: =SUM(O34:W34) -> 0
A35: 5 | B35: Adquisición de uniformes para el personal amparado en la Ley Orgánica de Servicio Público | O35: 33000 | X35: =SUM(O35:W35) -> 33000 | Y35: 45.53.08.02 | Z35: Vestuario, Lencería, Prendas de Protección…
A36: 6 | B36: Pago servicio de guardería a funcionarios del GADPSDT | O36: 30000 | Q36: -10700 | V36: -10000 | W36: -10000 | X36: =SUM(O36:W36) -> -700 | Y36: 45.53.02.10 | Z36: Servicio de guardería
B37: Servicio de mantenimiento y remodelación de las oficinas de la dirección de gestión seguridad, salud ocupacional , bienestar social , riesgos y desastres naturales; armada y desarmada de estaciones de trabajo, mamparas, pisos techo; y cableado estructurado | V37: 10000 | W37: 10000 | X37: =SUM(O37:W37) -> 20000 | Y37: 45.73.04.02 | Z37: Edificios, locales, residencias y cableado estructurado (Mantenimiento, reparación e instalación)
B38: TOTAL | O38: =SUM(O31:O36) -> 73000 | P38: =SUM(P31:P36) -> 0 | Q38: =SUM(Q31:Q36) -> -10700 | R38: =SUM(R31:R36) -> 0 | S38: =SUM(S31:S37) -> 0 | T38: =SUM(T31:T37) -> 0 | U38: =SUM(U31:U37) -> 0 | V38: =SUM(V31:V37) -> 0 | W38: =SUM(W31:W37) -> 0 | X38: =SUM(X31:X37) -> 62300

Sheet Seguridad 
G2: PLAN OPERATIVO ANUAL 2.025
G3: Dirección / Unidad: | O3: GESTIÓN DE SEGURIDAD, SALUD OCUPACIONAL , BIENESTAR SOCIAL , RIESGOS Y DESASTRTES NATURALES
G4: Periodo de ejecución: | O4: Enero-Diciembre
A6: Objetivos de Desarrollo Sostenible | B6: Garantizar una vida sana y promover el bienestar para todos en todas las edades
A7: Objetivos Nacionales: | B7: Propender la construcción de un Estado eficiente, transparente y orientado al bienestar social
A8: Objetivos Provinciales: | B8: Fortalecer la institucionalidad y gobernanza local, mediante prácticas transparentes con participación activa de la ciudadanía
A9: Objetivos en GPR | B9: Incrementar la eficiencia operacional
A10: Proceso: | B10: Identificación y mitigación de los riesgos laborales en los trabajadores y servidores públicos del GAD Provincial de Santo Domingo de los Tsáchilas
A11: Propósito / Objetivo | B11: Prevenir y mitigar riesgos de índole natural y laboral con el objetivo de precautelar el bienestar ,seguridad y salud ocupacional .
A12: Resultado 1 / Componente 1 | B12: Indicadores de Gestión Institucional | C12: Método de Cálculo | K12: Meta trimestral
K13: 1 | L13: 2 | M13: 3 | N13: 4
A14: Prevención de riesgos laborales | B14: Porcentaje de personal capacitado sobre los factores de riesgos | C14: (Número de personal capacitado) / (Número de personal del GADPSDT) X 100 | K14: 0.25 | L14: 0.25 | M14: 0.25 | N14: 0.25
B15: Números de simulacros de conatos de incendio | C15: Sumatoria de simulacros realizados | N15: 1
B16: Actividades | C16: Cronograma | O16: Valor Asignado | P16: I Reforma | Q16: II Reforma | R16: III Reforma | S16: IV Reforma | T16: V Reforma | U16: VI Reforma | V16: VII Reforma | W16: VIII Reforma | X16: Total | Y16: Partida Presupuestaria
C17: E | D17: F | E17: M | F17: A | G17: M | H17: J | I17: J | J17: A | K17: S | L17: O | M17: N | N17: D | Y17: Código | Z17: Denominación
A18: 1 | B18: Registro del Comité de Seguridad y Salud en el Trabajo en el Sistema Único de Trabajo del Ministerio de Trabajo | O18: 0 | X18: =SUM(O18:W18) -> 0
A19: 2 | B19: Índices de gestión de la Seguridad y Salud en el Trabajo - SGRT IESS | O19: 0 | X19: =SUM(O19:W19) -> 0
A20: 3 | B20: Simulacro de conato de incendios | O20: 0 | X20: =SUM(O20:W20) -> 0
A21: 4 | B21: Revisa el cumplimiento de actualización de la Plataforma del Sistema Único de Trabajo del Ministerio de Trabajo, Registro del Responsables de Seguridad y Salud en el Trabajo y Gestión Integral de Riesgos, Organismos Paritarios e Informe anual de actividades, Trámite del Reglamento de Higiene y Seguridad | O21: 0 | X21: =SUM(O21:W21) -> 0
A22: 5 | B22: Reuniones con el Comité de Seguridad y Salud en el Trabajo | O22: 0 | X22: =SUM(O22:W22) -> 0
A23: 6 | B23: Realizar capacitaciones sobre seguridad y salud ocupacional | O23: 0 | X23: =SUM(O23:W23) -> 0
A24: 7 | B24: Inspecciones de campo | O24: 0 | X24: =SUM(O24:W24) -> 0
A25: 8 | B25: Reporte de accidentes de trabajo | O25: 0 | X25: =SUM(O25:W25) -> 0
A26: 9 | B26: Registro de Autorización e Informe de descarga a Guardalmacén referente a la Asignación y Reposición de EPP & Ropa de Trabajo | O26: 0 | X26: =SUM(O26:W26) -> 0
B27: TOTAL | O27: =SUM(O18:O26) -> 0 | P27: =SUM(P18:P26) -> 0 | Q27: =SUM(Q18:Q26) -> 0 | R27: =SUM(R18:R26) -> 0 | S27: =SUM(S18:S26) -> 0 | T27: =SUM(T18:T26) -> 0 | U27: =SUM(U18:U26) -> 0 | V27: =SUM(V18:V26) -> 0 | ... X27: =SUM(X18:X26) -> 0
A29: Resultado 2 / Componente 2 | B29: Indicadores de Gestión Institucional | C29: Método de Cálculo | K29: Meta trimestral
K30: 1 | L30: 2 | M30: 3 | N30: 4
A31: Cumplimiento de la normativa legal vigente acerca de seguridad y salud de los trabajadores | B31: Porcentaje de dotación de vestimenta y equipos de protección personal a los trabajadores y funcionarios del GAD Provincial | C31: (# de personal con dotación de epp) / (# de servidores del GADPSDT) X100 | L31: 1
B32: Actividades | C32: Cronograma | O32: Valor Asignado | P32: I Reforma | Q32: II Reforma | R32: III Reforma | S32: IV Reforma | T32: V Reforma | U32: VI Reforma | V32: VII Reforma | W32: VIII Reforma | X32: Total | Y32: Partida Presupuestaria
C33: E | D33: F | E33: M | F33: A | G33: M | H33: J | I33: J | J33: A | K33: S | L33: O | M33: N | N33: D | Y33: Código | Z33: Denominación
A34: 1 | B34: Adquisición de ropa de trabajo y prendas de vestir para trabajadores del GADPSDT bajo el Régimen del Código de Trabajo | O34: 30000 | X34: =SUM(O34:W34) -> 30000 | Y34: 45.73.08.02 | Z34: Vestuario, Lencería, Prendas de Protección…
A35: 2 | B35: Adquisición de equipos de protección personal para trabajadores del GADPSDT bajo el régimen del Código de Trabajo | O35: 17300 | X35: =SUM(O35:W35) -> 17300 | Y35: 45.73.08.02 | Z35: Vestuario, Lencería, Prendas de Protección…
A36: 3 | B36: Adquisición de ropa de trabajo y prendas de vestir para trabajadores del GADPSDT bajo el Régimen del Código de Trabajo "Construcción de Estructuras Menores /Presupuesto Participativo en la Provincia de Santo Domingo de las Tsáchilas". | O36: 3300 | X36: =SUM(O36:W36) -> 3300 | Y36: 45.73.08.02 | Z36: Vestuario, Lencería, Prendas de Protección…
A37: 4 | B37: Adquisición de equipos de protección personal para trabajadores del GADPSDT bajo el régimen del Código de Trabajo "Construcción de Estructuras Menores /Presupuesto Participativo en la Provincia de Santo Domingo de las Tsáchilas". | O37: 1900 | X37: =SUM(O37:W37) -> 1900 | Y37: 45.73.08.02 | Z37: Vestuario, Lencería, Prendas de Protección…
A38: 5 | B38: Adquisición de equipos de protección personal para trabajadores del GADPSDT bajo el régimen del Código de Trabajo | O38: 65700 | X38: =SUM(O38:W38) -> 65700 | Y38: 45.73.08.02 | Z38: Vestuario, Lencería, Prendas de Protección…
A39: 6 | B39: Adquisición de equipos de protección personal para trabajadores del GADPSDT bajo el régimen del Código de Trabajo "Construcción de Estructuras Menores /Presupuesto Participativo en la Provincia de Santo Domingo de las Tsáchilas". | O39: 18000 | X39: =SUM(O39:W39) -> 18000 | Y39: 45.73.08.02 | Z39: Vestuario, Lencería, Prendas de Protección…
A40: 7 | B40: Adquisición de equipos de protección personal para trabajadores del GADPSDT bajo el régimen del Código de Trabajo (botas de caucho con puntas de acero anti deslizantes y botas para motoguadañas). | O40: 4500 | X40: =SUM(O40:W40) -> 4500 | Y40: 45.73.08.02 | Z40: Vestuario, Lencería, Prendas de Protección…
A41: 8 | B41: Adquisición de equipos de protección personal para trabajadores del GADPSDT bajo el régimen del Código de Trabajo (botas de caucho con puntas de acero anti deslizantes y botas para motoguadañas) "Construcción de Estructuras Menores /Presupuesto Participativo en la Provincia de Santo Domingo de las Tsáchilas". | O41: 2100 | X41: =SUM(O41:W41) -> 2100 | Y41: 45.73.08.02 | Z41: Vestuario, Lencería, Prendas de Protección…
A42: 9 | B42: Contratación de servicio de mantenimiento, recarga de extintores y cambio de mangueras y manómetros | O42: 4500 | X42: =SUM(O42:W42) -> 4500 | Y42: 45.53.02.03 | Z42: Almacenamiento, Embalaje, Desembalaje, Envase, Desenvase y Recarga de Extintores
O43: 1500 | X43: =SUM(O43:W43) -> 1500 | Y43: 45.53.08.13 | Z43: Repuestos y Accesorios
...

Sheet Dispensario
G1: PLAN OPERATIVO ANUAL 2.025
G2: Dirección / Unidad: | O2: GESTIÓN DE SEGURIDAD, SALUD OCUPACIONAL , BIENESTAR SOCIAL , RIESGOS Y DESASTRES NATURALES
G3: Periodo de ejecución: | O3: Enero-Diciembre
A5: Objetivos de Desarrollo Sostenible | B5: Garantizar una vida sana y promover el bienestar para todos en todas las edades
A6: Objetivos Nacionales: | B6: Mejorar las condiciones de vida de la población de forma integral, promoviendo el acceso equitativo a salud, vivienda y bienestar social.
A7: Objetivos Provinciales: | B7: Fortalecer la institucionalidad y gobernanza local, mediante prácticas transparentes con participación activa de la ciudadanía
A8: Objetivos en GPR | B8: Incrementar la eficiencia operacional
A9: Proceso: | B9: Salud Ocupacional en los trabajadores y servidores públicos del GAD Provincial de Santo Domingo de los Tsáchilas
A10: Propósito / Objetivo | B10: Gestionar, coordinar y ejecutar programas de intervención para prevenir las posibles enfermedades ocupacionales e identificar los factores de riesgos laborales que están expuestos los trabajadores y servidores públicos del GAD Provincial de Santo Domingo de los Tsáchilas.
A12: Resultado 1 / Componente 1 | B12: Indicadores de Gestión Institucional | C12: Método de Cálculo | K12: Meta trimestral
K13: 1 | L13: 2 | M13: 3 | N13: 4
A14: Vigilancia de salud en el trabajo. | B14: Número de historias clínicas ocupacionales actualizadas | C14: Sumatoria de historias clínicas actualizadas | K14: 25 | L14: 25 | M14: 25 | N14: 25
B15: Número de personal realizados Exámenes Ocupacionales periódicos | C15: Sumatoria de personal realizados Exámenes Ocupacionales periódicos | M15: 300
B16: Actividades | C16: Cronograma | O16: Valor Asignado | P16: I Reforma | Q16: II Reforma | R16: III Reforma | S16: IV Reforma | T16: V Reforma | U16: VI Reforma | V16: VII Reforma | W16: VIII Reforma | X16: Total | Y16: Partida Presupuestaria
C17: E | D17: F | E17: M | F17: A | G17: M | H17: J | I17: J | J17: A | K17: S | L17: O | M17: N | N17: D | Y17: Código | Z17: Denominación
A18: 1 | B18: Apertura, actualización y archivo de historias clínicas ocupacionales del personal del GAD Provincial | O18: 0 | X18: =SUM(O18:W18) -> 0
A19: 2 | B19: Elaboración de fichas ocupacionales al personal del GADPSDT. | O19: 0 | X19: =SUM(O19:W19) -> 0
A20: 3 | B20: Mantener atención medico-quirúrgica de nivel primario y de urgencia eficiente en trabajadores y servidores públicos del GADPSDT | O20: 0 | X20: =SUM(O20:W20) -> 0
A21: 4 | B21: Brindar tratamiento de primer nivel de atención y administrar los medicamentos. | O21: 0 | X21: =SUM(O21:W21) -> 0
A22: 5 | B22: Elaborar mensualmente reporte de descargo/entrega de medicamentos a los servidores públicos del GADPSDT. | O22: 0 | X22: =SUM(O22:W22) -> 0
A23: 6 | B23: Actualización mensual de Kardex de medicamentos e insumos de farmacia. | O23: 0 | X23: =SUM(O23:W23) -> 0
A24: 7 | B24: Elaborar mensualmente perfil epidemiológico de los trabajadores del GADPSDT | O24: 0 | X24: =SUM(O24:W24) -> 0
A25: 8 | B25: Elaborar mensualmente el reporte de ausentismo laboral por enfermedad y/o accidentes de trabajo | O25: 0 | X25: =SUM(O25:W25) -> 0
A26: 9 | B26: Limpieza y esterilización de material blanco y equipos de curación | O26: 0 | X26: =SUM(O26:W26) -> 0
A27: 10 | B27: Recolección y eliminación de desechos infecciosos y corto-punzantes | O27: 0 | X27: =SUM(O27:W27) -> 0
A28: 11 | B28: Gestión anual para la renovación del Permiso de Funcionamiento del Dispensario Médico | O28: 0 | X28: =SUM(O28:W28) -> 0
A29: 12 | B29: Elaborar Informes Técnicos relacionados a la salud en el trabajo. | O29: 0 | X29: =SUM(O29:W29) -> 0
... A31: 14 | B31: Elaborar informes de presunción de enfermedades profesionales debidamente suscrito conforme a la normativa vigente. | O31: 0 | X31: =SUM(O31:W31) -> 0
A32: 15 | B32: Contratación de servicio de laboratorio para realizar Exámenes Ocupacionales de preempleo, periódicos y retiro al personal de Código de Trabajo y LOSEP del GADPSDT. | O32: 13275 | X32: =SUM(O32:W32) -> 13275 | Y32: 45.53.02.26 | Z32: Servicios Médicos Hospitalarios y Complementarios
O33: 14175 | X33: =SUM(O33:W33) -> 14175 | Y33: 45.73.02.26 | Z33: Servicios Médicos Hospitalarios y Complementarios
A34: 16 | B34: Adquisición de medicamentos e insumos médicos de emergencia para la atención de trabajadores y servidores públicos del dispensario médico del GADPSDT. | O34: 6600 | X34: =SUM(O34:W34) -> 6600 | Y34: 45.53.08.09 | Z34: Medicamentos
A35: 17 | B35: Mantenimiento preventivo y correctivo de equipos médicos indispensables para la atención en dispensario médico del GADPSDT | O35: 2500 | X35: =SUM(O35:W35) -> 2500 | Y35: 45.73.04.04 | Z35: Maquinarias y Equipos (Instalación, Mantenimiento y Reparación)
O36: 1450 | X36: =SUM(O36:W36) -> 1450 | Y36: 45.73.08.13 | Z36: Repuestos y Accesorios
A37: 18 | B37: Impresión de block de recetarios para el dispensario médico | Q37: 700 | X37: =SUM(O37:W37) -> 700 | Y37: 45.73.08.07 | Z37: Materiales de impresión, fotografía, reproducción y publicaciones.
B38: TOTAL | O38: =SUM(O18:O37) -> 38000 | P38: =SUM(P18:P37) -> 0 | Q38: =SUM(Q18:Q37) -> 700 | R38: =SUM(R18:R37) -> 0 | S38: =SUM(S18:S37) -> 0 | T38: =SUM(T18:T37) -> 0 | U38: =SUM(U18:U37) -> 0 | V38: =SUM(V18:V37) -> 0 | ... X38: =SUM(X18:X37) -> 38700
A40: Resultado2 Componente 2 | B40: Indicadores de Gestión Institucional | C40: Método de Cálculo | K40: Meta trimestral
K41: 1 | L41: 2 | M41: 3 | N41: 4
A42: Prevención y promoción en salud laboral. | B42: Número de inspecciones de campo realizadas | C42: Sumatoria de inspecciones de campo realizadas | K42: 2 | L42: 3 | M42: 3 | N42: 3
B43: Número de personal capacitado en materia de salud en el trabajo | C43: Sumatoria de personal capacitado en materia de salud en el trabajo | K43: 50 | L43: 100 | M43: 100 | N43: 100
B44: Actividades | C44: Cronograma | O44: Valor Asignado | P44: I Reforma | Q44: II Reforma | R44: III Reforma | S44: IV Reforma | T44: V Reforma | U44: VI Reforma | V44: VII Reforma | W44: VIII Reforma | X44: Total | Y44: Partida Presupuestaria
...

Sheet Psicología
G2: PLAN OPERATIVO ANUAL 2025
G3: Dirección / Unidad: | O3: GESTIÓN DE SEGURIDAD, SALUD OCUPACIONAL , BIENESTAR SOCIAL , RIEGOS Y DESASTRTES NATURALES
G4: Periodo de ejecución: | O4: Enero-Diciembre
A6: Objetivos de Desarrollo Sostenible | B6: Garantizar una vida sana y promover el bienestar para todos en todas las edades
A7: Objetivos Nacionales: | B7: Propender la construcción de un estado eficiente transparente y orientado al bienestar social
A8: Objetivos Provinciales: | B8: Fortalecer la institucionalidad y gobernanza local, mediante prácticas transparentes con participación activa de la ciudadanía
A9: Objetivos en GPR | B9: Incrementar la eficiencia operacional
A10: Proceso: | B10: Programas de prevención y promoción de los factores de riesgos psicosociales en los servidores/as del GAD Provincial
A11: Propósito / Objetivo | B11: Evaluar e implementar las intervenciones psicológicas interdisciplinarias, orientadas a anticipar, reconocer y controlar los riesgos que puedan afectar la seguridad y salud en el trabajo, en los servidores públicos y trabajadores del GAD Provincial de Santo Domingo de los Tsáchilas
A12: Resultado 1 / Componente 1 | B12: Indicadores de Gestión Institucional | C12: Método de Cálculo | K12: Meta trimestral
K13: 1 | L13: 2 | M13: 3 | N13: 4
A14: Ejecución de programas de prevención y promoción, diagnóstico, evaluación e intervención psicológica de factores psicosociales en el trabajo | B14: Número de servidores/as capacitados sobre los riesgos psicosociales | C14: Sumatoria de servidores/as capacitados sobre los riesgos psicosociales | K14: 100 | L14: 120 | M14: 120 | N14: 120
B15: Número de servidores/as públicos atendidos en las diferentes áreas de trabajo | C15: Sumatoria de servidores/as públicos atendidos en las diferentes áreas de trabajo | L15: 120 | M15: 120 | N15: 120
B16: Actividades | C16: Cronograma | O16: Valor Asignado | P16: I Reforma | Q16: II Reforma | R16: III Reforma | S16: IV Reforma | T16: V Reforma | U16: VI Reforma | V16: VII Reforma | W16: VIII Reforma | X16: Total | Y16: Partida Presupuestaria
C17: E | D17: F | E17: M | F17: A | G17: M | H17: J | I17: J | J17: A | K17: S | L17: O | M17: N | N17: D | Y17: Código | Z17: Denominación
A18: 1 | B18: Actualizar la plataforma del Sistema Único de Trabajo del Ministerio de Trabajo referente a la Seguridad y Prevención de Riesgos Laborales e implementar los Programas de Prevención Programa de Reducción al Uso y Consumo de Drogas, Plan de Prevención de Riesgos Psicosociales | O18: 0 | X18: =SUM(O18:W18) -> 0
A19: 2 | B19: Elaborar diagnósticos psicológicos sobre los factores de riesgos psicosociales en los servidores/as públicos del Gad provincial | O19: 0 | X19: =SUM(O19:W19) -> 0
A20: 3 | B20: Diseñar, aplicar y evalúa programas de capacitación y formación permanente sobre riesgos psicosociales | O20: 0 | X20: =SUM(O20:W20) -> 0
A21: 4 | B21: Diseña, administra, ejecuta y evalúa estrategias, programas y acciones de promoción, prevención e intervención en factores psicosociales asociados al trabajo para proteger, mejorar y recuperar, las condiciones laborales, la calidad de vida laboral, el bienestar, la seguridad y la salud de los trabajadores | O21: 0 | X21: =SUM(O21:W21) -> 0
A22: 5 | B22: Canalizar con el IESS las patologías obtenidas por parte del psicólogo clínico en los trabajadores y servidores públicos del GADPSDT, en el ámbito de la seguridad y salud en el trabajo | O22: 0 | X22: =SUM(O22:W22) -> 0
A23: 6 | B23: Realizar análisis epidemiológicos de la información referente a factores psicosociales asociados al trabajo y a sus efectos, con el fin de determinar los perfiles de riesgo-protección y orientar las medidas de intervención para responder a las necesidades prioritarias | O23: 0 | X23: =SUM(O23:W23) -> 0
A24: 7 | B24: Adquisición de material impreso e informativo, para ser utilizado en las capacitaciones. | O24: 100 | X24: =SUM(O24:W24) -> 100 | Y24: 45.73.08.07 | Z24: Materiales de Impresión, Fotografía, Reproducción y Publicaciones
A25: 8 | B25: Desarrollar estudios disciplinarios e interdisciplinarios para determinar el origen de las patologías derivadas de los factores de riesgos psicosociales asociados al trabajo | O25: 0 | X25: =SUM(O25:W25) -> 0
A26: 9 | B26: Capacitar a los servidores/as del GAD Provincial sobres los riesgos psicosociales | O26: 0 | X26: =SUM(O26:W26) -> 0
B27: TOTAL | O27: =SUM(O18:O26) -> 100 | P27: =SUM(P18:P26) -> 0 | Q27: =SUM(Q18:Q26) -> 0 | R27: =SUM(R18:R26) -> 0 | S27: =SUM(S18:S26) -> 0 | T27: =SUM(T18:T26) -> 0 | U27: =SUM(U18:U26) -> 0 | V27: =SUM(V18:V26) -> 0 | ... X27: =SUM(X18:X26) -> 100

Sheet Riesgos
G2: PLAN OPERATIVO ANUAL 2.025
G3: Dirección / Unidad: | O3: GESTIÓN DE SEGURIDAD, SALUD OCUPACIONAL , BIENESTAR SOCIAL , RIESGOS Y DESASTRES NATURALES
G4: Periodo de ejecución: | O4: Enero-Diciembre
A6: Objetivos de Desarrollo Sostenible | B6: Lograr que las ciudades sean inclusivas, seguras, resilientes y sostenibles
A7: Objetivos Nacionales: | B7: Propender la construcción de un Estado eficiente, transparente y orientado al bienestar social.
A8: Objetivos Provinciales: | B8: Fortalecer la institucionalidad y gobernanza local, mediante prácticas transparentes con participación activa de la ciudadanía
A9: Objetivos en GPR | B9: Incrementar la eficiencia operacional
A10: Proceso: | B10: Identificación, prevención y reducción de las amenazas de origen natural y antrópico en la Provincia de Santo Domingo de los Tsáchilas
A11: Propósito / Objetivo | B11: Prevenir y reducir los efectos peligrosos de los riesgos de origen natural y antrópico en la Provincia
A12: Resultado 1 / Componente 1 | B12: Indicadores de Gestión Institucional | C12: Método de Cálculo | K12: Meta trimestral
K13: 1 | L13: 2 | M13: 3 | N13: 4
A14: Prevención y reducción de los riesgos de origen natural y antrópico | B14: Número de campañas efectuadas sobre riesgos naturales y antrópicos | C14: Sumatoria de campañas sobre riesgos naturales antrópicos | L14: 1 | N14: 1
B15: Ordenanza para la Gestión de Riesgos y Desastres en la Provincia de Santo Domingo de los Tsáchilas | C15: Ordenanza aprobada para la Gestión de Riesgos y Desastres | N15: 1
B16: Número de informes de situación sobre eventualidades reportadas en el territorio provincial | C16: Sumatoria de informes de situación sobre eventualidades por la temporada invernal reportadas y atendidas en la red vial de la Provincia | K16: 3 | L16: 3 | M16: 2 | N16: 2
B17: Actividades | C17: Cronograma | O17: Valor Asignado | P17: I Reforma | Q17: II Reforma | R17: III Reforma | S17: IV Reforma | T17: V Reforma | U17: VI Reforma | V17: VII Reforma | W17: VIII Reforma | X17: Total | Y17: Partida Presupuestaria
C18: E | D18: F | E18: M | F18: A | G18: M | H18: J | I18: J | J18: A | K18: S | L18: O | M18: N | N18: D | Y18: Código | Z18: Denominación
A19: 1 | B19: Motivar informes para establecer tipos de amenazas, grados e incides de vulnerabilidad | O19: 0 | X19: =SUM(O19:W19) -> 0
A20: 2 | B20: Proponer lineamientos para desarrollar estadísticas Provinciales de la Gestión de Riesgos | O20: 0 | X20: =SUM(O20:W20) -> 0
A21: 3 | B21: Gestión para la Aprobación de Ordenanza en Gestión de Riesgos y Desastres | O21: 0 | X21: =SUM(O21:W21) -> 0
A22: 4 | B22: Elaboración de Informes para establecer la capacidad de respuesta que existe en los diversos sitios geográficos locales | O22: 0 | X22: =SUM(O22:W22) -> 0
A23: 5 | B23: Programación de actividades técnicas, locales consolidadas de reducción de riesgos, coordinada previamente con otros actores territoriales en temas de gestión de riesgos | O23: 0 | X23: =SUM(O23:W23) -> 0
A24: 6 | B24: Revisión y Elaboración de Planes de Contingencia que contemple movimientos preventivos, predictivos y reactivo que ayuda a controlar una situación de emergencia y a minimizar sus consecuencias negativas | O24: 0 | X24: =SUM(O24:W24) -> 0
A25: 7 | B25: Participación activa en mesas técnicas de trabajo, COE en todos sus niveles de Gobierno | O25: 0 | X25: =SUM(O25:W25) -> 0
A26: 8 | B26: Gestión para la difusión en los medios de comunicación, sobre las actividades institucionales referente a la Gestión de Riegos Provinciales. | O26: 0 | X26: =SUM(O26:W26) -> 0
A27: 10 | B27: Remisión de los boletines probabilísticos de las instituciones técnico científicos (INAMI - INOCAR - CIFREN - SGR), sobre la evolución de las diferentes amenazas en el Ecuador | O27: 0 | X27: =SUM(O27:W27) -> 0
A28: 11 | B28: Adquisición de material impreso e informativo, para ser utilizado en las capacitaciones. | O28: 100 | X28: =SUM(O28:W28) -> 100 | Y28: 45.73.08.07 | Z28: Materiales de impresión, fotografía, reproducción y publicaciones.
A29: 12 | B29: Capacitaciones a los servidores públicos del GAD Provincial para el informe al responsable del registro Único de Trabajadores temas de Gestión de Riesgos Naturales y antrópicos. | O29: 0 | X29: =SUM(O29:W29) -> 0
A30: 13 | B30: Capacitaciones a los niveles de Gobiernos Parroquiales en riesgos naturales y antrópicos | O30: 0 | X30: =SUM(O30:W30) -> 0
B31: TOTAL | O31: =SUM(O19:O30) -> 100 | P31: =SUM(P19:P30) -> 0 | Q31: =SUM(Q19:Q30) -> 0 | R31: =SUM(R19:R30) -> 0 | S31: =SUM(S19:S30) -> 0 | T31: =SUM(T19:T30) -> 0 | U31: =SUM(U19:U30) -> 0 | V31: =SUM(V19:V30) -> 0 | ... X31: =SUM(X19:X30) -> 100

Sheet Resumen
A8: RESUMEN POA 2.025 DE LA DIRECCIÓN DE GESTIÓN DE SEGURIDAD, SALUD OCUPACIONAL , BIENESTAR SOCIAL , RIEGOS Y DESASTRTES NATURALES
A9: Nº | B9: Proyecto | C9: Valor Asignado | D9: I Reforma | E9: II Reforma | F9: III Reforma | G9: IV Reforma | H9: V Reforma | I9: VI Reforma | J9: VII Reforma | K9: VIII Reforma | L9: Valor Total
A10: 1 | B10: Trabajo social | C10: ='Trabajo Social'!O38 -> 73000 | D10: ='Trabajo Social'!P38 -> 0 | E10: ='Trabajo Social'!Q38 -> -10700 | F10: ='Trabajo Social'!R38 -> 0 | G10: ='Trabajo Social'!S38 -> 0 | H10: ='Trabajo Social'!T38 -> 0 | I10: ='Trabajo Social'!U38 -> 0 | J10: ='Trabajo Social'!V38 -> 0 | ... L10: ='Trabajo Social'!X38 -> 62300
A11: 2 | B11: Identificación y mitigación de los riesgos laborales en los trabajadores y servidores públicos del GAD Provincial de Santo Domingo de los Tsáchilas | C11: ='Seguridad '!O47 -> 148800 | D11: ='Seguridad '!P47 -> 0 | E11: ='Seguridad '!Q47 -> 1200 | F11: ='Seguridad '!R47 -> 0 | G11: ='Seguridad '!S47 -> 0 | H11: ='Seguridad '!T47 -> 0 | I11: ='Seguridad '!U47 -> 0 | J11: ='Seguridad '!V47 -> 0 | ... L11: ='Seguridad '!X47 -> 150000
A12: 3 | B12: Salud Ocupacional en los trabajadores y servidores públicos del GAD Provincial de Santo Domingo de los Tsáchilas | C12: =Dispensario!O53 -> 38000 | D12: =Dispensario!P53 -> 0 | E12: =Dispensario!Q53 -> 700 | F12: =Dispensario!R53 -> 0 | G12: =Dispensario!S53 -> 0 | H12: =Dispensario!T53 -> 0 | I12: =Dispensario!U53 -> 0 | J12: =Dispensario!V53 -> 0 | ... L12: =Dispensario!X53 -> 38700
A13: 4 | B13: Ejecución de programas de prevención y promoción, diagnóstico, evaluación e intervención psicológica de factores psicosociales en el trabajo | C13: =Psicología!O27 -> 100 | D13: =Psicología!P27 -> 0 | E13: =Psicología!Q27 -> 0 | F13: =Psicología!R27 -> 0 | G13: =Psicología!S27 -> 0 | H13: =Psicología!T27 -> 0 | I13: =Psicología!U27 -> 0 | J13: =Psicología!V27 -> 0 | ... L13: =Psicología!X27 -> 100
A14: 5 | B14: Identificación, prevención y reducción de las amenazas de origen natural y antrópico en la Provincia de Santo Domingo de los Tsáchilas | C14: =Riesgos!O31 -> 100 | D14: =Riesgos!P31 -> 0 | E14: =Riesgos!Q31 -> 0 | F14: =Riesgos!R31 -> 0 | G14: =Riesgos!S31 -> 0 | H14: =Riesgos!T31 -> 0 | I14: =Riesgos!U31 -> 0 | J14: =Riesgos!V31 -> 0 | ... L14: =Riesgos!X31 -> 100
B15: TOTAL | C15: =SUM(C10:C14) -> 260000 | D15: =SUM(D10:D14) -> 0 | E15: =SUM(E10:E14) -> -8800 | F15: =SUM(F10:F14) -> 0 | G15: =SUM(G10:G14) -> 0 | H15: =SUM(H10:H14) -> 0 | I15: =SUM(I10:I14) -> 0 | J15: =SUM(J10:J14) -> 0 | ... L15: =SUM(L10:L14) -> 251200
