Workbook

Sheet Presupuesto
F2: PLAN OPERATIVO ANUAL 2025
F3: Dirección/Unidad | K3: Dirección Financiera - Presupuesto
F4: Período de ejecución: | K4: Enero - Diciembre 2025
A6: Objetivos Nacionales: | B6: Mejorar las condiciones de vida de la población de forma integral, promoviendo el acceso equitativo a salud, vivienda y bienestar social.
A7: Objetivos Provinciales: | B7: Fortalecer la institucionalidad y gobernanza local, mediante prácticas transparentes con participación activa de la ciudadanía
A8: Objetivos en GPR: | B8: Incrementar la eficiencia operacional
A9: Proceso: | B9: Presupuesto
A10: Propósito / Objetivo: | B10: Atender que los requerimientos de las diferentes direcciones de la institución cumpla con el proceso adecuado y los parámetros de Ley
A11: Resultado 1/ Componente1 | B11: Indicador de gestión | C11: Método de cálculo | K11: Meta trimestral | O11: Línea Base
K12: 1 | L12: 2 | M12: 3 | N12: 4
A13: Revisar que los requerimientos de las diferentes direcciones de la institución cumpla con el proceso adecuado y la normativa vigente. | B13: 100 % de requerimientos realizado x direcciones son atendidas | K13: 1 | L13: 1 | M13: 1 | N13: 1
B14: Actividades | C14: Cronograma | O14: Valor Asignado | P14: I Reforma | Q14: II Reforma | R14: III Reforma | S14: IV Reforma | T14: V Reforma | U14: VI Reforma | V14: VII Reforma | W14: VIII Reforma | X14: Total | Y14: Código | Z14: Partida
C15: E | D15: F | E15: M | F15: A | G15: M | H15: J | I15: J | J15: A | K15: S | L15: O | M15: N | N15: D
A16: 1 | B16: Revisar minuciosamente (Control Previo) los requerimientos de las diferentes Direcciones del GADPSDT que ingresan a la Dirección Financiera | O16: 0 | X16: =SUM(O16:W16) -> 0
B17: Subtotal | O17: =SUM(O16:O16) -> 0 | P17: =SUM(P16:P16) -> 0 | Q17: =SUM(Q16:Q16) -> 0 | R17: =SUM(R16:R16) -> 0 | S17: =SUM(S16:S16) -> 0 | T17: =SUM(T16:T16) -> 0 | U17: =SUM(U16:U16) -> 0 | V17: =SUM(V16:V16) -> 0 | ... Y17: =SUM(Y16:Y16) -> 0
A19: Resultado 2/ Componente2 | B19: Indicador de gestión | C19: Método de cálculo | K19: Meta trimestral | O19: Línea Base
K20: 1 | L20: 2 | M20: 3 | N20: 4
A21: Registrar los procesos en el Sistema Contable, para garantizar que la Dirección Financiera disponga de información contable | B21: 100% de disponibilidad de fondos solicitadas son tramitadas | K21: 1 | L21: 1 | M21: 1 | N21: 1
B22: 100% de compromisos solicitados se han tramitado | K22: 1 | L22: 1 | M22: 1 | N22: 1
B23: Actividades | C23: Cronograma | O23: Valor Asignado | P23: I Reforma | Q23: II Reforma | R23: III Reforma | S23: IV Reforma | T23: V Reforma | U23: VI Reforma | V23: VII Reforma | W23: VIII Reforma | X23: Total | Y23: Código | Z23: Partida
C24: E | D24: F | E24: M | F24: A | G24: M | H24: J | I24: J | J24: A | K24: S | L24: O | M24: N | N24: D
A25: 1 | B25: Elaboración de los Comprobantes de Disponibilidad de Fondos por cada uno de los requerimientos de la diferentes Direcciones | O25: 0 | X25: =SUM(O25:W25) -> 0
A26: 2 | B26: Elaboración de los Comprobantes de Compromisos por cada uno de los requerimientos de las diferentes Direcciones | O26: 0 | X26: =SUM(O26:W26) -> 0
B27: Subtotal | O27: =SUM(O25:O26) -> 0 | P27: =SUM(P25:P26) -> 0 | Q27: =SUM(Q25:Q26) -> 0 | R27: =SUM(R25:R26) -> 0 | S27: =SUM(S25:S26) -> 0 | T27: =SUM(T25:T26) -> 0 | U27: =SUM(U25:U26) -> 0 | V27: =SUM(V25:V26) -> 0 | ... Y27: =SUM(Y25:Y26) -> 0
A29: Resultado 3/ Componente3 | B29: Indicador de gestión | C29: Método de cálculo | K29: Meta trimestral | O29: Línea Base
K30: 1 | L30: 2 | M30: 3 | N30: 4
A31: Elaborar el Proyecto del Presupuesto del año 2026 y Reformas del Presupuesto del Ejercicio Económico del año 2025. | B31: 100% de las reformas solicitadas han sido tramitadas | K31: 1 | L31: 1 | M31: 1 | N31: 1
B32: Actividades | C32: Cronograma | O32: Valor Asignado | P32: I Reforma | Q32: II Reforma | R32: III Reforma | S32: IV Reforma | T32: V Reforma | U32: VI Reforma | V32: VII Reforma | W32: VIII Reforma | X32: Total | Y32: Código | Z32: Partida
C33: E | D33: F | E33: M | F33: A | G33: M | H33: J | I33: J | J33: A | K33: S | L33: O | M33: N | N33: D
A34: 1 | B34: Realizar la estimación provisional y definitiva de los ingresos. | O34: 0 | X34: =SUM(O34:W34) -> 0
A35: 2 | B35: Elaboración de la Ordenanza del Presupuesto del año 2026 | O35: 0 | X35: =SUM(O35:W35) -> 0
A36: 3 | B36: Elaboración de Reformas Presupuestarias:( traspasos, suplementos y reducciones) a la Ordenanza del Presupuesto del Ejercicio Económico del año 2025. | O36: 0 | X36: =SUM(O36:W36) -> 0
B37: Subtotal | O37: =SUM(O34:O36) -> 0 | P37: =SUM(P34:P36) -> 0 | Q37: =SUM(Q34:Q36) -> 0 | R37: =SUM(R34:R36) -> 0 | S37: =SUM(S34:S36) -> 0 | T37: =SUM(T34:T36) -> 0 | U37: =SUM(U34:U36) -> 0 | V37: =SUM(V34:V36) -> 0 | ... X37: =SUM(X34:X36) -> 0
A39: Resultado 4/ Componente 4 | B39: Indicador de gestión | C39: Método de cálculo | K39: Meta trimestral | O39: Línea Base
K40: 1 | L40: 2 | M40: 3 | N40: 4
A41: Ejecución, evaluación y liquidación del Presupuesto. | B41: 100% de las evaluaciones presupuestarias han sido realizadas | K41: 1 | L41: 1 | M41: 1 | N41: 1
B42: Actividades | C42: Cronograma | O42: Valor Asignado | P42: I Reforma | Q42: II Reforma | R42: III Reforma | S42: IV Reforma | T42: V Reforma | U42: VI Reforma | V42: VII Reforma | W42: VIII Reforma | X42: Total | Y42: Código | Z42: Partida
C43: E | D43: F | E43: M | F43: A | G43: M | H43: J | I43: J | J43: A | K43: S | L43: O | M43: N | N43: D
A44: 1 | B44: Elaboración de la Ejecución y Evaluación del Presupuesto del Ejercicio Económico del año 2025 -Trimestralmente. | O44: 0 | X44: =SUM(O44:W44) -> 0
B45: Subtotal | O45: =SUM(O44) -> 0 | P45: =SUM(P44) -> 0 | Q45: =SUM(Q44) -> 0 | R45: =SUM(R44) -> 0 | S45: =SUM(S44) -> 0 | T45: =SUM(T44) -> 0 | U45: =SUM(U44) -> 0 | V45: =SUM(V44) -> 0 | ... X45: =SUM(X44) -> 0
...

Sheet Contabilidad
F2: PLAN OPERATIVO ANUAL 2.025
F3: Dirección/Unidad | K3: Gestión Financiera - Contabilidad General
F4: Período de ejecución: | K4: Enero - Diciembre
A6: Objetivos de Desarrollo Sostenible: | B6: Promover sociedades justas. Pacíficas e inclusivas
A7: Objetivos Nacionales: | B7: Propender la construcción de un Estado eficiente, transparente y orientado al bienestar social
A8: Objetivos Provinciales: | B8: Fortalecer la institucionalidad y gobernanza local, mediante prácticas transparentes con participación activa de la ciudadanía
A9: Objetivos Estratégicos en GPR: | B9: Incrementar la eficiencia operacional
A10: Proceso: | B10: Contabilidad General
A11: Propósito: | B11: Realizar el respectivo control previo al devengado sobre la documentación que ingresa al área de contabilidad; la misma que deberá seguir los procedimientos para ser registrados en el sistema contable, en los respectivos comprobantes diarios, comprobantes de ingresos, según la normativa vigente para la contabilidad gubernamental.
A12: Resultado 1/ Compomente1 | B12: Indicador de gestión | C12: Método de cálculo | K12: Programación de meta trimestral
K13: 1 | L13: 2 | M13: 3 | N13: 4
A14: Revisar que los procesos que ingresen a contabilidad cuenten con toda la documentación sustentatoria | B14: Porcentaje de procesos revisados | C14: (Número de procesos revisados/ número de procesos ingresados a contabilidad) x100 | K14: 1 | L14: 1 | M14: 1 | N14: 1
B15: Actividades | C15: Cronograma | O15: Valor Asignado | P15: I Reforma | Q15: II Reforma | R15: III Reforma | S15: IV Reforma | T15: V Reforma | U15: VI Reforma | V15: VII Reforma | W15: VIII Reforma | X15: Total | Y15: Código | Z15: Partida
C16: E | D16: F | E16: M | F16: A | G16: M | H16: J | I16: J | J16: A | K16: S | L16: O | M16: N | N16: D
A17: 1 | B17: Revisar minuciosamente los documentos de respaldo de los procesos que ingresan al GAD Provincial. | O17: 0 | X17: =SUM(O17:W17) -> 0
A18: 2 | B18: Dar soluciones para que los procesos continúen con sus trámite correspondiente y exista la debida garantía de la Entidad. | O18: 0 | X18: =SUM(O18:W18) -> 0
A19: 3 | B19: Dar información veraz al proveedor sobre la documentación que se requiere. | O19: 0 | X19: =SUM(O19:W19) -> 0
B20: Subtotal | O20: =SUM(O17:O19) -> 0 | P20: =SUM(P17:P19) -> 0 | Q20: =SUM(Q17:Q19) -> 0 | R20: =SUM(R17:R19) -> 0 | S20: =SUM(S17:S19) -> 0 | T20: =SUM(T17:T19) -> 0 | U20: =SUM(U17:U19) -> 0 | V20: =SUM(V17:V19) -> 0 | ... X20: =SUM(X17:X19) -> 0
A22: Resultado 2/ Compomente2 | B22: Indicador de gestión | C22: Método de cálculo | K22: Programación de meta trimestral
K23: 1 | L23: 2 | M23: 3 | N23: 4
A24: Registrar los procesos en el sistema contable | B24: Porcentaje de procesos registrados en sistema contable | C24: (Número de procesos registrados/ número de procesos ingresados a contabilidad) x100 | K24: 1 | L24: 1 | M24: 1 | N24: 1
B25: Actividades | C25: Cronograma | O25: Valor Asignado | P25: I Reforma | Q25: II Reforma | R25: III Reforma | S25: IV Reforma | T25: V Reforma | U25: VI Reforma | V25: VII Reforma | W25: VIII Reforma | X25: Total | Y25: Código | Z25: Partida
C26: E | D26: F | E26: M | F26: A | G26: M | H26: J | I26: J | J26: A | K26: S | L26: O | M26: N | N26: D
A27: 1 | B27: Elaboración de los comprobantes diarios por cada uno de los procesos de adquisiciones, contratos de obras, remuneraciones mensuales, ajustes, comisiones bancarias | O27: 0 | X27: =SUM(O27:W27) -> 0
A28: 2 | B28: Elaboración de comprobantes de ingresos por cada asignación recibida del Ministerio de Finanzas hacia el GAD Provincial. | O28: 0 | X28: =SUM(O28:W28) -> 0
A29: 3 | B29: Conciliación periódica de saldos de los auxiliares con los saldos de las respectivas cuentas de mayor general. | O29: 0 | X29: =SUM(O29:W29) -> 0
A30: 4 | B30: Participación en la constatación física de bienes de larga duración, bienes sujetos a control que le hayan sido entregados para el desempeño de sus funciones | O30: 0 | X30: =SUM(O30:W30) -> 0
B31: Subtotal | O31: =SUM(O27:O30) -> 0 | P31: =SUM(P27:P30) -> 0 | Q31: =SUM(Q27:Q30) -> 0 | R31: =SUM(R27:R30) -> 0 | S31: =SUM(S27:S30) -> 0 | T31: =SUM(T27:T30) -> 0 | U31: =SUM(U27:U30) -> 0 | V31: =SUM(V27:V30) -> 0 | ... X31: =SUM(X27:X30) -> 0
A33: Resultado 3/ Compomente3 | B33: Indicador de gestión | C33: Método de cálculo | K33: Programación de meta trimestral
K34: 1 | L34: 2 | M34: 3 | N34: 4
A35: Conservación y mantenimiento de archivos físicos y magnéticos de los procesos | B35: Porcentaje de procesos con archivo adecuado | C35: (Número de procesos archivados/ número de procesos ingresados a contabilidad) x100 | K35: 1 | L35: 1 | M35: 1 | N35: 1
B36: Actividades | C36: Cronograma | O36: Valor Asignado | P36: I Reforma | Q36: II Reforma | R36: III Reforma | S36: IV Reforma | T36: V Reforma | U36: VI Reforma | V36: VII Reforma | W36: VIII Reforma | X36: Total | Y36: Código | Z36: Partida
C37: E | D37: F | E37: M | F37: A | G37: M | H37: J | I37: J | J37: A | K37: S | L37: O | M37: N | N37: D
A38: 1 | B38: Establecer un archivo adecuado para la conservación y custodia de la documentación sustentatoria, que será archivada en orden cronológico y secuencial y se matendrá durante el tiempo que fijen las disposiciones legales vigentes. | O38: 0 | X38: =SUM(O38:W38) -> 0
A39: 2 | B39: Clasificación y conservación de los documentos de uso permanente y eventual, el calificado como histórico, y el que ha perdido su valor por haber dejado de tener incidencia legal, técnica, financiera. | O39: 0 | X39: =SUM(O39:W39) -> 0
B40: Subtotal | O40: =SUM(O38:O39) -> 0 | P40: =SUM(P38:P39) -> 0 | Q40: =SUM(Q38:Q39) -> 0 | R40: =SUM(R38:R39) -> 0 | S40: =SUM(S38:S39) -> 0 | T40: =SUM(T38:T39) -> 0 | U40: =SUM(U38:U39) -> 0 | V40: =SUM(V38:V39) -> 0 | ... X40: =SUM(X38:X39) -> 0
B42: TOTAL | O42: =O40+O31+O20 -> 0 | P42: =P40+P31+P20 -> 0 | Q42: =Q40+Q31+Q20 -> 0 | R42: =R40+R31+R20 -> 0 | S42: =S40+S31+S20 -> 0 | T42: =T40+T31+T20 -> 0 | U42: =U40+U31+U20 -> 0 | V42: =V40+V31+V20 -> 0 | ... X42: =X40+X31+X20 -> 0

Sheet Tesorería 
F2: PLAN OPERATIVO ANUAL 2025
F3: Dirección/Unidad | K3: Gestión Financiera - Tesorería General
F4: Período de ejecución: | K4: Enero- Diciembre 2025
A6: Objetivos Nacionales: | B6: Mejorar las condiciones de vida de la población de forma integral, promoviendo el acceso equitativo a salud, vivienda y bienestar social.
A7: Objetivos Provinciales: | B7: Propender la construcción de un Estado eficiente, transparente y orientado al bienestar social
A8: Objetivos en GPR: | B8: Incrementar la eficiencia operacional
A9: Proceso: | B9: Tesorería General
A10: Propósito / Objetivo: | B10: Velar por la recaudación efectiva de los ingresos de las contribuciones económicas del Gobierno Autónomo Descentralizado Provincial de Santo Domingo de los Tsáchilas, así como realizar el pago de las obligaciones económicas contraídas.
A11: Resultado 1/ Compomente1 | B11: Indicador de gestión | C11: Método de cálculo | K11: Programación de meta trimestral | O11: Línea Base
K12: 1 | L12: 2 | M12: 3 | N12: 4
A13: Revisar que la documentación previo al pago sea la correcta, elaboración de comprobantes de pago. | B13: Porcentaje los procesos ingresados a tesorería son tramitados | C13: (Número de procesos tramitados/ número de procesos ingresados a tesorería) x100 | K13: 1 | L13: 1 | M13: 1 | N13: 1
B14: Actividades | C14: Cronograma | O14: Valor Asignado | P14: I Reforma | Q14: II Reforma | R14: III Reforma | S14: IV Reforma | T14: V Reforma | U14: VI Reforma | V14: VII Reforma | W14: VIII Reforma | X14: Total | Y14: Código | Z14: Partida
C15: E | D15: F | E15: M | F15: A | G15: M | H15: J | I15: J | J15: A | K15: S | L15: O | M15: N | N15: D
A16: 1 | B16: Revisar meticulosamente los procesos que ingresen previo al comprobante de pago | O16: 0 | X16: =SUM(O16:W16) -> 0
A17: 2 | B17: Proporcionar información real y veraz de pagos realizados a los proveedores | O17: 0 | X17: =SUM(O17:W17) -> 0
B18: Subtotal | O18: =SUM(O16:O17) -> 0 | P18: =SUM(P16:P17) -> 0 | Q18: =SUM(Q16:Q17) -> 0 | R18: =SUM(R16:R17) -> 0 | S18: =SUM(S16:S17) -> 0 | T18: =SUM(T16:T17) -> 0 | U18: =SUM(U16:U17) -> 0 | V18: =SUM(V16:V17) -> 0 | ... X18: =SUM(X16:X17) -> 0
A20: Resultado 2/ Componente 2 | B20: Indicador de gestión | C20: Método de cálculo | K20: Programación de meta trimestral | O20: Línea Base
K21: 1 | L21: 2 | M21: 3 | N21: 4
A22: Realizar pagos y transferencias bancarias | B22: Porcentaje de pagos y transferencias requeridos se han dado trámite | C22: (Número de procesos tramitados/ número de procesos ingresados a tesorería) x100 | K22: 1 | L22: 1 | M22: 1 | N22: 1
B23: Actividades | C23: Cronograma | O23: Valor Asignado | P23: I Reforma | Q23: II Reforma | R23: III Reforma | S23: IV Reforma | T23: V Reforma | U23: VI Reforma | V23: VII Reforma | W23: VIII Reforma | X23: Total | Y23: Código | Z23: Partida
C24: E | D24: F | E24: M | F24: A | G24: M | H24: J | I24: J | J24: A | K24: S | L24: O | M24: N | N24: D
A25: 1 | B25: Efectuar los pagos de acuerdo a los SPI (Sistema de pagos interbancarios) generados | O25: 0 | X25: =SUM(O25:W25) -> 0
A26: 2 | B26: Realizar transferencias entre cuentas del Banco Central del Ecuador | O26: 0 | X26: =SUM(O26:W26) -> 0
A27: 3 | B27: Pago de intereses y otros cargos a la deuda pública interna | O27: 5304.85 | X27: =SUM(O27:W27) -> 5304.85 | Y27: 11.56.02.01 | Z27: Sector público financiero: financiar la rehabilitación y ampliación de las vías: rio Verde-San Gabriel Del Baba-Julio Moreno (incluye construcción de dos puentes, camineras y ciclo vía); y km 7 vía Quevedo-Puerto Limón. Crédito # 16279
O28: 198223.26 | X28: =SUM(O28:W28) -> 198223.26 | Y28: 11.56.02.01 | Z28: Sector público financiero: financiar la rehabilitación, ampliación y mejoramiento de la carretera que une la cabecera parroquial de Valle Hermoso con el recinto Cristóbal Colón, cantón Santo Domingo de los Colorados crédito # 60156
O29: 146308.49 | X29: =SUM(O29:W29) -> 146308.49 | Y29: 11.56.02.01 | Z29: Sector público financiero: financiar la construcción y rehabilitación de las vías hacia la comuna colorados del Búa – Umpe Chico y El Esfuerzo Palmar del Bimbe, de la provincia Santo Domingo de los Tsáchilas. Crédito # 60276
O30: 45255.28 | X30: =SUM(O30:W30) -> 45255.28 | Y30: 11.56.02.01 | Z30: Sector público financiero: financiar la rehabilitación y mejoramiento de la vía la y la Corina - Santa Cecilia El Tropezón, parroquia Santa María del Toachi. Crédito # 60512
O31: 49336.03 | X31: =SUM(O31:W31) -> 49336.03 | Y31: 11.56.02.01 | Z31: Sector público financiero: financiar la construcción de un puente sobre el río Espejo, sector La Avanzada Yee del Dorado, parroquia Alluriquín y construcción de un puente sobre el río Memé, parroquia Alluriquín.#60607
O32: 5148.17 | X32: =SUM(O32:W32) -> 5148.17 | Y32: 11.56.02.01 | Z32: Sector público financiero: financiar la adquisición de pruebas rápidas de COVID-19 para atender a la población de los cantones Santo Domingo y La Concordia, provincia Santo Domingo de los Tsáchilas a cargo del GAD Provincial Santo Domingo de los Tsáchilas Crédito # 60622
O33: 128165.89 | X33: =SUM(O33:W33) -> 128165.89 | Y33: 11.56.02.01 | Z33: Sector público financiero: financiar adquisición de equipo caminero para el GAD Provincial de Santo Domingo de los Tsáchilas. Crédito # 60606
O34: 226886.58 | X34: =SUM(O34:W34) -> 226886.58 | Y34: 11.56.02.01 | Z34: Sector público financiero: financiar rehabilitación y mejoramiento del camino Placer del Toachi- Santa Rosa del Mulaute, cantón Santo Domingo , Provincia de Santo Domingo de los Tsáchilas. Crédito # 60721
O35: 87329.24 | X35: =SUM(O35:W35) -> 87329.24 | Y35: 11.56.02.01 | Z35: Sector público financiero: financiar rectificación y mejoramiento del camino San Jacinto del Búa - 10 de Agosto - Plan Piloto. Crédito # 60718
O36: 203306.89 | T36: 20000 | X36: =SUM(O36:W36) -> 223306.89 | Y36: 11.56.02.01 | Z36: Sector público financiero: financiar Rehabilitación y Mejoramiento De La Carretera Provincias Unidas - Comuna El Poste - La Y 7.46km De Longitud Del Cantón Santo Domingo, Provincia De Santo Domingo De Los Tsáchilas Crédito # 60831
A37: 3 | B37: Pago de intereses y otros cargos a la deuda pública interna | O37: 330000 | T37: -120000 | W37: -200000 | X37: =SUM(O37:W37) -> 10000 | Y37: 11.56.02.01 | Z37: Sector público financiero: Rehabilitación y Mejoramiento de la Vía las Delicias - Copalito - Puerto Limón. Crédito # 60896
A38: 4 | B38: Pago de comisiones bancarias | O38: 50000 | X38: =SUM(O38:W38) -> 50000 | Y38: 11.57.02.03 | Z38: Comisiones bancarias
A39: 5 | B39: Pago amortizado de la deuda pública interna | O39: 272628.62 | X39: =SUM(O39:W39) -> 272628.62 | Y39: 11.96.02.01 | Z39: Al sector público financiero: financiar la rehabilitación y ampliación de las vías: rio Verde-San Gabriel del Baba-Julio Moreno (incluye construcción de dos puentes, camineras y ciclo vía); y km 7 vía Quevedo-Puerto Limón. Crédito # 16279
O40: 772964.39 | X40: =SUM(O40:W40) -> 772964.39 | Y40: 11.96.02.01 | Z40: Sector público financiero: financiar la rehabilitación, ampliación y mejoramiento de la carretera que une la cabecera parroquial de Valle Hermoso con el recinto Cristóbal Colón, cantón Santo Domingo de los Colorados crédito # 60156
O41: 179860.63 | X41: =SUM(O41:W41) -> 179860.63 | Y41: 11.96.02.01 | Z41: Al sector público financiero: financiar la construcción y rehabilitación de las vías hacia la comuna Colorados del Búa – Umpe Chico y El Esfuerzo Palmar del Bimbe, de la provincia Santo Domingo de los Tsáchilas. Crédito # 60276
O42: 110161.47 | X42: =SUM(O42:W42) -> 110161.47 | Y42: 11.96.02.01 | Z42: Al sector público financiero: financiar la rehabilitación y mejoramiento de la vía la Y La Corina - Santa Cecilia El Tropezón, parroquia Santa María del Toachi. Crédito # 60512
O43: 206284.67 | X43: =SUM(O43:W43) -> 206284.67 | Y43: 11.96.02.01 | Z43: Sector público financiero: financiar la construcción de un puente sobre el río Espejo, sector La Avanzada Yee del Dorado, parroquia Alluriquín y construcción de un puente sobre el río Memé, parroquia Alluriquín.#60607
...

Sheet Resumen
A8: RESUMEN POA 2.025 DE LA DIRECCIÓN DE GESTIÓN FINANCIERA
A9: Nº | B9: Proceso | C9: Valor | D9: I Reforma | E9: II Reforma | F9: III Reforma | G9: IV Reforma | H9: V Reforma | I9: VI Reforma | J9: VII Reforma | K9: VIII Reforma | L9: V Total
A10: 1 | B10: Presupuesto | C10: =Presupuesto!O46 -> 0 | D10: =Presupuesto!P46 -> 0 | E10: =Presupuesto!Q46 -> 0 | F10: =Presupuesto!R46 -> 0 | G10: =Presupuesto!S46 -> 0 | H10: =Presupuesto!T46 -> 0 | I10: =Presupuesto!U46 -> 0 | J10: =Presupuesto!V46 -> 0 | ... L10: =Presupuesto!X46 -> 0
A11: 2 | B11: Contabilidad General | C11: =Contabilidad!O42 -> 0 | D11: =Contabilidad!P42 -> 0 | E11: =Contabilidad!Q42 -> 0 | F11: =Contabilidad!R42 -> 0 | G11: =Contabilidad!S42 -> 0 | H11: =Contabilidad!T42 -> 0 | I11: =Contabilidad!U42 -> 0 | J11: =Contabilidad!V42 -> 0 | ... L11: =Contabilidad!X42 -> 0
A12: 3 | B12: Tesorería General | C12: ='Tesorería '!O81 -> 5116142.9 | D12: ='Tesorería '!P81 -> 0 | E12: ='Tesorería '!Q81 -> -25000 | F12: ='Tesorería '!R81 -> 0 | G12: ='Tesorería '!S81 -> 0 | H12: ='Tesorería '!T81 -> -300000 | I12: ='Tesorería '!U81 -> 0 | J12: ='Tesorería '!V81 -> -10000 | ... L12: ='Tesorería '!X81 -> 4281142.9
B13: TOTAL | C13: =SUM(C10:C12) -> 5116142.9 | D13: =SUM(D10:D12) -> 0 | E13: =SUM(E10:E12) -> -25000 | F13: =SUM(F10:F12) -> 0 | G13: =SUM(G10:G12) -> 0 | H13: =SUM(H10:H12) -> -300000 | I13: =SUM(I10:I12) -> 0 | J13: =SUM(J10:J12) -> -10000 | ... L13: =SUM(L10:L12) -> 4281142.9
