Workbook

Sheet Secre
C1: PLAN OPERATIVO ANUAL 2.025
C2: Dirección / Unidad: | K2: GESTIÓN DE SECRETARIA GENERAL
C3: Periodo de ejecución: | K3: Enero - Diciembre 2025
A5: OBJETIVO NACIONAL: | B5: Propender la construcción de un Estado eficiente, transparente y orientado al bienestar social.
A6: OBJETIVO PROVINCIAL: | B6: Fortalecer la institucionalidad y gobernanza local, mediante prácticas transparentes con participación activa de la ciudadanía
A7: OBJETIVOS ESTRATÉGICOS EN GPR: | B7: Incrementar la eficiencia operacional
A8: PROCESO: | B8: Gestión institucional eficaz con todos los actos administrativos y normativos
A9: OBJETIVO GENERAL: | B9: Administrar, custodiar y salvaguardar la documentación interna y externa, prestar atención eficiente, eficaz y oportuna a clientes internos y externos. Brindar el apoyo al Consejo Provincial.
A11: Resultado 1 / Componente 1 | B11: Indicadores de Gestión Institucional | C11: Fórmula | K11: Programación de Meta trimestral | O11: Línea Base
K12: 1 | L12: 2 | M12: 3 | N12: 4
A13: Apoyo a la Cámara Legislativa Provincial | B13: Número de Sesiones de Consejo Provincial realizadas | C13: Sumatoria de Sesiones de Consejo Provincial realizadas | K13: 3 | L13: 3 | M13: 3 | N13: 3
B14: Actividades | C14: Cronograma | O14: Valor Asignado | P14: I Reforma | Q14: II Reforma | R14: III Reforma | S14: IV Reforma | T14: V Reforma | U14: VI Reforma | V14: VII Reforma | W14: VIII Reforma | X14: Total | Y14: Partida Presupuestaria
C15: E | D15: F | E15: M | F15: A | G15: M | H15: J | I15: J | J15: A | K15: S | L15: O | M15: N | N15: D | Y15: Código | Z15: Denominación
A16: 1 | B16: Realizar la convocatoria para sesiones ordinarias y extraordinarias de consejo | O16: 0 | X16: =SUM(O16:W16) -> 0
A17: 2 | B17: Participar en sesiones y redactar actas e informes de comisiones y de consejo | O17: 0 | X17: =SUM(O17:W17) -> 0
A18: 3 | B18: Notificar las resoluciones expedidas por el Consejo Provincial | O18: 0 | X18: =SUM(O18:W18) -> 0
A19: 4 | B19: Tramitar el pago de dietas a consejeros | O19: 30600 | X19: =SUM(O19:W19) -> 30600 | Y19: 11.57.03.01 | Z19: Dietas - Consejeros
B20: SUBTOTAL | O20: =SUM(O16:O19) -> 30600 | P20: =SUM(P16:P19) -> 0 | Q20: =SUM(Q16:Q19) -> 0 | R20: =SUM(R16:R19) -> 0 | S20: =SUM(S16:S19) -> 0 | T20: =SUM(T16:T19) -> 0 | U20: =SUM(U16:U19) -> 0 | V20: =SUM(V16:V19) -> 0 | ... X20: =SUM(X16:X19) -> 30600
A22: Resultado2 / Componente 2 | B22: Indicadores de Gestión Institucional | C22: Método de Cálculo | K22: Programación de meta trimestral | O22: Línea Base
K23: 1 | L23: 2 | M23: 3 | N23: 4
A24: Realización de eventos públicos oficiales | B24: Número de eventos oficiales del Consejo Provincial | C24: Sumatoria de eventos oficiales del Consejo Provincial | K24: 0 | L24: 0 | M24: 0 | N24: 2
B25: Actividades | C25: Cronograma | O25: Valor Asignado | P25: I Reforma | Q25: II Reforma | R25: III Reforma | S25: IV Reforma | T25: V Reforma | U25: VI Reforma | V25: VII Reforma | W25: VIII Reforma | X25: Total | Y25: Código | Z25: Partida
C26: E | D26: F | E26: M | F26: A | G26: M | H26: J | I26: J | J26: A | K26: S | L26: O | M26: N | N26: D
A27: 1 | B27: Adquisición de materiales de impresión, fotografía reproducción y publicación. | O27: 1800 | X27: =SUM(O27:W27) -> 1800 | Y27: 11.53.08.07 | Z27: Materiales de Impresión, fotografía reproducción y publicaciones
A28: 2 | B28: Contratación de servicios de logísticos para la organización del desfile cívico y la sesión conmemorativa de provincialización | O28: 14000 | Q28: -3000 | T28: -1000 | W28: -10000 | X28: =SUM(O28:W28) -> 0 | Y28: 11.53.02.48 | Z28: Eventos oficiales
B29: SUBTOTAL | O29: =SUM(O27:O28) -> 15800 | P29: =SUM(P27:P28) -> 0 | Q29: =SUM(Q27:Q28) -> -3000 | R29: =SUM(R27:R28) -> 0 | S29: =SUM(S27:S28) -> 0 | T29: =SUM(T27:T28) -> -1000 | U29: =SUM(U27:U28) -> 0 | V29: =SUM(V27:V28) -> 0 | ... X29: =SUM(X27:X28) -> 1800
A31: Resultado 3 / Componente 3 | B31: Indicadores de Gestión Institucional | C31: Método de Cálculo | K31: Programación de meta trimestral | O31: Línea Base
K32: 1 | L32: 2 | M32: 3 | N32: 4
A33: Sistema de gestión documental | B33: Número de biblioratos recuperados | C33: Sumatoria de biblioratos recuperados | K33: 400 | L33: 400 | M33: 400 | N33: 400
B34: Actividades | C34: Cronograma | O34: Valor Asignado | P34: I Reforma | Q34: II Reforma | R34: III Reforma | S34: IV Reforma | T34: V Reforma | U34: VI Reforma | V34: VII Reforma | W34: VIII Reforma | X34: Total | Y34: Partida Presupuestaria
C35: E | D35: F | E35: M | F35: A | G35: M | H35: J | I35: J | J35: A | K35: S | L35: O | M35: N | N35: D | Y35: Código | Z35: Denominación
A36: 1 | B36: Digitalizar y sistematizar el archivo pasivo del GADPSDT | O36: 0 | X36: =SUM(O36:W36) -> 0
A37: 2 | B37: Informe de la administración del sistema de archivo | O37: 0 | X37: =SUM(O37:W37) -> 0
A38: 3 | B38: Contratación del servicio de mantenimiento de equipos informáticos | O38: 200 | X38: =SUM(O38:W38) -> 200 | Y38: 11.53.07.04 | Z38: Mantenimiento y reparación de equipos y sistemas informáticos
A39: 4 | B39: Adquisición de carpetas institucionales para la entrega en eventos oficiales | O39: 1500 | X39: =SUM(O39:W39) -> 1500 | Y39: 11.53.08.07 | Z39: Materiales de Impresión, fotografía reproducción y publicaciones
A40: 5 | B40: Organización, levantamiento y escaneo del archivo de la Secretaría General de los años 2019 al 2023 | O40: 0 | X40: =SUM(O40:W40) -> 0
A41: 6 | B41: Adquisición de computadora para el área de Secretaria General | O41: 1700 | Q41: -1700 | X41: =SUM(O41:W41) -> 0 | Y41: 11.84.01.07 | Z41: Equipos, sistemas y paquetes informáticos
A42: 7 | B42: Contratación del servicio de mantenimiento de equipos informáticos | O42: 200 | X42: =SUM(O42:W42) -> 200 | Y42: 11.53.07.04 | Z42: Mantenimiento y reparación de equipos y sistemas informáticos
B43: SUBTOTAL | O43: =SUM(O36:O42) -> 3600 | P43: =SUM(P36:P42) -> 0 | Q43: =SUM(Q36:Q42) -> -1700 | R43: =SUM(R36:R42) -> 0 | S43: =SUM(S36:S42) -> 0 | T43: =SUM(T36:T42) -> 0 | U43: =SUM(U36:U42) -> 0 | V43: =SUM(V36:V42) -> 0 | ... X43: =SUM(X36:X42) -> 1900
A45: Resultado 4 / Componente 4 | B45: Indicadores de Gestión Institucional | C45: Método de Cálculo | K45: Programación de meta trimestral | O45: Línea Base
...

Sheet Resumen 
A8: RESUMEN PLAN OPERATIVO ANUAL 2.025 DE GESTIÓN DE SECRETARIA GENERAL
A9: Nº | B9: Proceso | C9: Valor Asignado | D9: I Reforma | E9: II Reforma | F9: III Reforma | G9: IV Reforma | H9: V Reforma | I9: VI Reforma | J9: VII Reforma | K9: VIII Reforma | L9: V Total | M9: VALOR A CONTRATAR | N9: OTROS VALORES
A10: 1 | B10: Gestión institucional eficaz con todos los actos administrativos y normativos | C10: =Secre!O54 -> 50000 | D10: =Secre!P54 -> 0 | E10: =Secre!Q54 -> -4700 | F10: =Secre!R54 -> 0 | G10: =Secre!S54 -> 0 | H10: =Secre!T54 -> -1000 | I10: =Secre!U54 -> 0 | J10: =Secre!V54 -> 0 | K10: =Secre!W54 -> -10000 | L10: =SUM(C10:K10) -> 34300
B11: TOTAL | C11: =SUM(C10:C10) -> 50000 | D11: =SUM(D10:D10) -> 0 | E11: =SUM(E10:E10) -> -4700 | F11: =SUM(F10:F10) -> 0 | G11: =SUM(G10:G10) -> 0 | H11: =SUM(H10:H10) -> -1000 | I11: =SUM(I10:I10) -> 0 | J11: =SUM(J10:J10) -> 0 | ... N11: =SUM(N10:N10) -> 0
