Workbook

Sheet Procuraduría
C2: PLAN OPERATIVO ANUAL 2.025
C3: Dirección / Unidad: | K3: Gestión de Procuraduría Síndica
C4: Periodo de ejecución: | K4: Enero - Diciembre
A6: Objetivos Nacionales: | B6: Propender la construcción de un Estado eficiente, transparente y orientado al bienestar social
A7: Objetivos Provinciales: | B7: Fortalecer la institucionalidad y gobernanza loca, mediante prácticas transparentes con participación activa de la ciudadanía
A8: Objetivos Estratégicos en GPR: | B8: Incrementar la eficiencia operacional
A9: Proceso: | B9: Vinculación de asesoramiento jurídico en la gestión del GAD Provincial de conformidad con la planificación, la demanda de actividades generadas, organizar el trabajo de acuerdo a prioridades.
A10: Propósito / Objetivo: | B10: Cumplir que todos los trámites y actividades que efectúe el GAD Provincial se ajusten a la Constitución de la República del Ecuador, al COOTAD, COA, COPYFP y más normativa legal vigente.
A12: Resultado 1 / Componente 1 | B12: Indicador de gestión | C12: Método de cálculo | K12: Programación de meta trimestral
K13: 1 | L13: 2 | M13: 3 | N13: 4
A14: Procesos de procuraduría síndica realizados | B14: Porcentaje de procesos ingresados a Procuraduría Síndica tramitados | C14: (Número de procesos tramitados/ número de procesos ingresados) | K14: 1 | L14: 1 | M14: 1 | N14: 1
B15: Actividades | C15: Cronograma | O15: Valor Asignado | P15: I Reforma | Q15: II Reforma | R15: III Reforma | S15: IV Reforma | T15: V Reforma | U15: VI Reforma | V15: VII Reforma | W15: VIII Reforma | X15: Valor Total | Y15: Partida
C16: E | D16: F | E16: M | F16: A | G16: M | H16: J | I16: J | J16: A | K16: S | L16: O | M16: N | N16: D | Y16: Código | Z16: Denominación
A17: 1 | B17: Elaboración de ordenanzas, reglamentos, convenios, comodatos, contratos, resoluciones, minutas, oficios, y memorandos, de acuerdo al requerimiento institucional | O17: 0 | X17: =SUM(O17:W17) -> 0
A18: 2 | B18: Revisar, analizar la normativa jurídica vigente para la elaboración de informes y criterios jurídicos, de los trámites administrativos de diferente naturaleza en la administración del GAD Provincial, para que sean conocidos por comisiones y posteriormente a la Cámara Legislativa y ciudadanía. | O18: 0 | X18: =SUM(O18:W18) -> 0
A19: 3 | B19: Patrocinio legal en juicios y procesos administrativos que tenga el GAD Provincial como actor o demandado. Representar judicialmente a la institución conjuntamente con la señora prefecta. | O19: 0 | X19: =SUM(O19:W19) -> 0
A20: 4 | B20: Tramitar actas, acuerdos, escrituras de donación, expropiación, inscripciones, servidumbre; solicitar, asistir y realizar diligencias respectivas | O20: 5000 | Q20: -2000 | T20: 2500 | X20: =SUM(O20:W20) -> 5500 | Y20: 11.57.02.06 | Z20: Costas judiciales;trámites notariales y legalización de documentos
A21: 5 | B21: Análisis y revisión de la Normativa Jurídica vigente a fin de cumplir satisfactoriamente con las actividades que el GAD Provincial requiera | O21: 0 | X21: =SUM(O21:W21) -> 0
A22: 6 | B22: Asistir a reuniones internas y externas del GAD provincial a nivel local y nacional | O22: 0 | X22: =SUM(O22:W22) -> 0
A23: 7 | B23: Recepción, registro y entrega de memorandos, oficios y otros. Revisión de casillero judicial, levantamiento de archivos, varios | O23: 0 | X23: =SUM(O23:W23) -> 0
A24: 8 | B24: Seguimiento de los trámites internos en las diferentes direcciones del GAD Provincial y solicitud de la documentación que se requiera para el cumplimiento de las actividades solicitadas a esta Procuraduría | O24: 0 | X24: =SUM(O24:W24) -> 0
A25: 9 | B25: Contratación de servicios profesionales de abogados externos para el seguimiento de causas. | O25: =15000+35000 -> 50000 | X25: =SUM(O25:W25) -> 50000 | Y25: 11.53.06.06 | Z25: Honorarios por Contratos Civiles de Servicios
A26: 10 | B26: Pago de indemnizaciones por cumplimiento de sentencias judiciales | O26: 5000 | T26: -2500 | X26: =SUM(O26:W26) -> 2500 | Y26: 11.57.02.15 | Z26: Indemnizaciones por sentencias judiciales
A27: 11 | B27: Pago de viáticos y subsistencias para el personal de Procuraduría Síndica | Q27: 500 | X27: =SUM(O27:W27) -> 500 | Y27: 11.53.03.03 | Z27: Viáticos y Subsistencias en el Interior
A28: 12 | B28: Pago de peritaje dentro de la Inspección Judicial - Causa Nro. 23331-2024-00015G | Q28: 1500 | X28: =SUM(O28:W28) -> 1500 | Y28: 11.53.06.04 | Z28: Fiscalización e Inspecciones Técnicas
A29: 13 | B29: Pago de publicaciones de las citaciones dentro de los procesos de repetición a través de la prensa escrita | V29: 5000 | X29: =SUM(O29:W29) -> 5000 | Y29: 11.53.02.07 | Z29: Difusión, información y publicidad
A30: 14 | B30: Pago de peritaje dentro de la inspección judicial y demanda de reivindicación de los terrenos en el sector la Orangine | V30: 5000 | X30: =SUM(O30:W30) -> 5000 | Y30: 11.53.06.04 | Z30: Fiscalización e inspecciones técnicas
B31: TOTAL PROCESO | O31: =SUM(O17:O30) -> 60000 | P31: =SUM(P17:P30) -> 0 | Q31: =SUM(Q17:Q30) -> 0 | R31: =SUM(R17:R30) -> 0 | S31: =SUM(S17:S30) -> 0 | T31: =SUM(T17:T30) -> 0 | U31: =SUM(U17:U30) -> 0 | V31: =SUM(V17:V30) -> 10000 | ... X31: =SUM(X17:X30) -> 70000

Sheet Resumen
A7: PLAN OPERATIVO ANUAL 2.025 - GESTIÓN DE PROCURADURÍA SÍNDICA
A8: Nº | B8: Proceso | C8: Valor Asignado | D8: I Reforma | E8: II Reforma | F8: III Reforma | G8: IV Reforma | H8: V Reforma | I8: VI Reforma | J8: VII Reforma | K8: VIII Reforma | L8: Valor Total | M8: VALOR A CONTRATAR | N8: OTROS VALORES
A9: 1 | B9: =Procuraduría!B9 -> Vinculación de asesoramiento jurídico en la gestión del GAD Provincial de conformidad con la planificación, la demanda de actividades generadas, organizar el trabajo de acuerdo a prioridades. | C9: =Procuraduría!O31 -> 60000 | D9: =Procuraduría!P31 -> 0 | E9: =Procuraduría!Q31 -> 0 | F9: =Procuraduría!R31 -> 0 | G9: =Procuraduría!S31 -> 0 | H9: =Procuraduría!T31 -> 0 | I9: =Procuraduría!U31 -> 0 | J9: =Procuraduría!V31 -> 10000 | ... L9: =Procuraduría!X31 -> 70000
B10: TOTAL | C10: =SUM(C9:C9) -> 60000 | D10: =SUM(D9:D9) -> 0 | E10: =SUM(E9:E9) -> 0 | F10: =SUM(F9:F9) -> 0 | G10: =SUM(G9:G9) -> 0 | H10: =SUM(H9:H9) -> 0 | I10: =SUM(I9:I9) -> 0 | J10: =SUM(J9:J9) -> 10000 | ... N10: =SUM(N9:N9) -> 0
