Workbook

Sheet THH
G2: PLAN OPERATIVO ANUAL 2.025
G3: Dirección / Unidad: | O3: Gestión de Talento humano
G4: Periodo de ejecución: | O4: Enero-Diciembre
A6: Objetivos de Desarrollo Sostenible | B6: Promover el crecimiento economico inclusivo y sostenible, el emplero y el trabajo decente para todos.
A7: Objetivos Nacionales: | B7: Propender la construcción de un Estado eficiente, transparente y orientado al bienestar social
A8: Objetivos Provinciales: | B8: Fortalecer la institucionalidad y gobernanza local, mediante prácticas transparentes con participación activa de la ciudadanía
A9: Objetivos en GPR | B9: Incrementar el desempeño del Talento Humano
A10: Proyecto | B10: Gestión de Talento Humano
A11: Propósito / Objetivo | B11: Desarrollar políticas adecuadas de Administración de Talento Humano y procesos que permitan la racionalización y dotación del personal necesario a través del análisis permanentes de los procesos, procedimientos , normas técnicas y procesos de evaluación .
A12: Resultado 1 / Componente 1 | B12: Indicadores de Gestión Institucional | C12: Método de Cálculo | K12: Meta trimestral
K13: 1 | L13: 2 | M13: 3 | N13: 4
A14: Sistema Integrado de Gestión de Talento Humano | B14: Alcanzar un cumplimiento del 70% del plan de capacitaciones | C14: ( Número de capacitaciones ejecutadas / número de capacitaciones programadas) x 100 | L14: 0.2 | M14: 0.2 | N14: 0.3
B15: Alcanzar un cumplimiento del 100% en los procesos de concurso de méritos y oposición | C15: (Número de concursos realizados) / (número de concursos planificados) x 100 | K15: 0.25 | L15: 0.25 | M15: 0.25 | N15: 0.25
B16: 98 % de aplicación del manual de descripción, valoración y clasificación de puestos | C16: (Número de perfiles elaborados) / (número de cargos en el distributivo) X 100 | K16: 0.25 | L16: 0.25 | M16: 0.25 | N16: 0.25
B17: 97% del personal con evaluación de desempeño | C17: (Número de personal evaluado) / (total de personal) X 100 | K17: 0.25 | L17: 0.25 | M17: 0.25 | N17: 0.25
B18: Actividades | C18: Cronograma | O18: Valor Asignado | P18: I Reforma | Q18: II Reforma | R18: III Reforma | S18: IV Reforma | T18: V Reforma | U18: VI Reforma | V18: VII Reforma | W18: VIII Reforma | X18: Valor Total | Y18: Partida Presupuestaria
C19: E | D19: F | E19: M | F19: A | G19: M | H19: J | I19: J | J19: A | K19: S | L19: O | M19: N | N19: D | Y19: Código | Z19: Denominación
A20: 1 | B20: Realizar el análisis de descripción y valoración del puesto | X20: =SUM(O20:W20) -> 0
A21: =(A20+1) -> 2 | B21: Elaborar estructura ocupacional institucional | X21: =SUM(O21:W21) -> 0
A22: =(A21+1) -> 3 | B22: Elaborar el plan de evaluación del desempeño | X22: =SUM(O22:W22) -> 0
A23: =(A22+1) -> 4 | B23: Elaborar informes consolidados de los resultados de la evaluación de desempeño | X23: =SUM(O23:W23) -> 0
A24: =(A23+1) -> 5 | B24: Realizar concursos de merito y oposición | X24: =SUM(O24:W24) -> 0
A25: =(A24+1) -> 6 | B25: Aplicar pruebas psicométricas | X25: =SUM(O25:W25) -> 0
A26: =(A25+1) -> 7 | B26: Ejecutar manual técnico de reclutamiento y selección del talento humano | X26: =SUM(O26:W26) -> 0
A27: =(A26+1) -> 8 | B27: Elaborar informes de proceso selectivo | X27: =SUM(O27:W27) -> 0
A28: =(A27+1) -> 9 | B28: Elaboración de acciones de personal de acuerdo a lo previsto en el Art. 21 del Reglamento General a la Ley Orgánica de Servicio Público | X28: =SUM(O28:W28) -> 0
A29: =(A28+1) -> 10 | B29: Elaborar acciones de personal de nombramiento provisional y permanente | X29: =SUM(O29:W29) -> 0
A30: =(A29+1) -> 11 | B30: Detectar las necesidades de capacitación | X30: =SUM(O30:W30) -> 0
A31: =(A30+1) -> 12 | B31: Elaborar el plan de capacitaciones | X31: =SUM(O31:W31) -> 0
A32: =(A31+1) -> 13 | B32: Contratación del servicio de capacitaciones para el personal administrativo | O32: 2000 | W32: -2000 | X32: =SUM(O32:W32) -> 0 | Y32: 11.53.06.12 | Z32: Capacitación a Servidores Públicos
A33: =(A32+1) -> 14 | B33: Contratación del servicio de capacitación del personal generador de valor agregado | O33: 2000 | W33: -2000 | X33: =SUM(O33:W33) -> 0 | Y33: 31.53.06.12 | Z33: Capacitación a Servidores Públicos
A34: =(A33+1) -> 15 | B34: Contratación del servicio de capacitación para el personal de Código de Trabajo | O34: 2000 | W34: -2000 | X34: =SUM(O34:W34) -> 0 | Y34: 42.73.06.12 | Z34: Capacitación a Servidores Públicos
A35: =(A34+1) -> 16 | B35: Contratación de servicio de sistema informático para la aplicación pruebas Psicométricas para ascensos y contratación de personal. | O35: 5000 | U35: -5000 | X35: =SUM(O35:W35) -> 0 | Y35: 11.53.07.02 | Z35: Arrendamiento y Licencias de Uso de Paquetes Informáticos
A36: =(A35+1) -> 17 | B36: Realizar inducción al personal | X36: =SUM(O36:W36) -> 0
A37: =(A36+1) -> 18 | B37: Elaboración de memorándums, oficios entre otros | X37: =SUM(O37:W37) -> 0
B38: TOTAL | O38: =SUM(O20:O37) -> 11000 | P38: =SUM(P20:P37) -> 0 | Q38: =SUM(Q20:Q37) -> 0 | R38: =SUM(R20:R37) -> 0 | S38: =SUM(S20:S37) -> 0 | T38: =SUM(T20:T37) -> 0 | U38: =SUM(U20:U37) -> -5000 | V38: =SUM(V20:V37) -> 0 | ... X38: =SUM(X20:X37) -> 0
A40: Resultado 2 / Componente 2 | B40: Indicadores de Gestión Institucional | C40: Método de Cálculo | K40: Meta trimestral
K41: 1 | L41: 2 | M41: 3 | N41: 4
A42: Desarrollo institucional y régimen disciplinario | B42: Porcentaje de puestos de trabajos ocupados | C42: Número de puestos ocupados/ número de puestos ocupados | K42: 0.9 | L42: 0.1
B43: Actividades | C43: Cronograma | O43: Valor Asignado | P43: I Reforma | Q43: II Reforma | R43: III Reforma | S43: IV Reforma | T43: V Reforma | U43: VI Reforma | V43: VII Reforma | W43: VIII Reforma | X43: Valor Total | Y43: Partida Presupuestaria
...

Sheet Resumen
B8: RESUMEN POA 2.025 DE LA DIRECCIÓN DE GESTIÓN DE TALENTO HUMANO
B9: Nº | C9: Proceso | D9: Valor | E9: I Reforma | F9: II Reforma | G9: III Reforma | H9: IV Reforma | I9: V Reforma | J9: VI Reforma | K9: VII Reforma | L9: VIII Reforma | M9: Total
B10: 1 | C10: Gestión de Talento Humano | D10: =THH!O153 -> 6069067.7 | E10: =THH!P153 -> 50000 | F10: =THH!Q153 -> 85203.27 | G10: =THH!R153 -> 0 | H10: =THH!S153 -> 0 | I10: =THH!T153 -> 100575.88 | J10: =THH!U153 -> 0 | K10: =THH!V153 -> 0 | ... M10: =THH!X153 -> 6298846.8
C11: TOTAL | D11: =SUM(D10:D10) -> 6069067.7 | E11: =SUM(E10:E10) -> 50000 | F11: =SUM(F10:F10) -> 85203.27 | G11: =SUM(G10:G10) -> 0 | H11: =SUM(H10:H10) -> 0 | I11: =SUM(I10:I10) -> 100575.88 | J11: =SUM(J10:J10) -> 0 | K11: =SUM(K10:K10) -> 0 | ... M11: =SUM(M10:M10) -> 6298846.8
