Workbook

Sheet Posicionamiento
C1: PLAN OPERATIVO ANUAL 2025
C2: Dirección / Unidad: | K2: Gestión de Comunicación
C3: Periodo de ejecución: | K3: Enero – diciembre
A5: Objetivos de Desarrollo Sostenibles | B5: Garantizar una vida sana y promover el bienestar para todos en todas las edades
A6: Objetivos Nacionales: | B6: Propender la construcción de un Estado eficiente, transparente y orientado al bienestar social
A7: Objetivos Provinciales: | B7: Fortalecer la institucionalidad y gobernanza local, mediante prácticas transparentes con participación activa de la ciudadanía
A8: Objetivos Estratégicos en GPR: | B8: Incrementar el nivel de posicionamiento del Gobierno Provincial de Santo Domingo de los Tsáchilas
A9: Proyecto: | B9: Posicionamiento institucional del Gobierno Autónomo Descentralizado Provincial de Santo Domingo de los Tsáchilas
A10: Propósito: | B10: Posicionar la gestión que realiza el Gobierno Autónomo Descentralizado Provincial de Santo Domingo de los Tsáchilas
A12: Componente 1/ Resultado 1 | B12: Indicador de gestión Institucional | C12: Método de Cálculo | K12: Meta Trimestral
K13: 1 | L13: 2 | M13: 3 | N13: 4
A14: Posicionamiento en medios de comunicación masivos y alternativos | B14: Porcentaje de la población que se ha informado de la gestión del GAD Provincial a través de medios de comunicación masiva | C14: (Población informada/población encuestada) x 100 | N14: 0.65
B15: Número de cuñas difundidas | C15: Sumatoria de cuñas difundidas | M15: 4000 | N15: 4372
B16: Difusión de programas institucionales en televisión | C16: Sumatoria de programas institucionales en televisión | L16: 4 | M16: 4 | N16: 2
B17: Número de boletines de prensa elaborados | C17: Sumatoria de boletines para medios masivos y redes sociales | K17: 70 | L17: 70 | M17: 70 | N17: 70
B18: Número de publicaciones en redes sociales | C18: Sumatoria de publicaciones en redes sociales | K18: 1402 | L18: 1402 | M18: 1402 | N18: 1402
B19: Actividades | C19: Cronograma | O19: Valor Asignado | P19: I Reforma | Q19: II Reforma | R19: III Reforma | S19: IV Reforma | T19: V Reforma | U19: VI Reforma | V19: VII Reforma | W19: VIII Reforma | X19: Total | Y19: Partida
C20: E | D20: F | E20: M | F20: A | G20: M | H20: J | I20: J | J20: A | K20: S | L20: O | M20: N | N20: D | Y20: Código | Z20: Denominación
A21: 1 | B21: Elaboración de boletines de prensa | O21: 0 | X21: =SUM(O21:W21) -> 0
A22: 2 | B22: Elaboración de agenda de medios | O22: 0 | X22: =SUM(O22:W22) -> 0
A23: 3 | B23: Elaboración de guiones y propuesta creativa para la elaboración de spots, cuñas y artes gráficos | O23: 0 | X23: =SUM(O23:W23) -> 0
A24: 4 | B24: Producción y edición de cuñas publicitarias para radio, y locución de programas institucionales de televisión | O24: 0 | X24: =SUM(O24:W24) -> 0
A25: 5 | B25: Recabar, editar y producir información para espacios informativos institucionales contratados en prensa y televisión | O25: 0 | X25: =SUM(O25:W25) -> 0
A26: 6 | B26: Edición de videos informativos para medios digitales y medios de comunicación televisivos | O26: 0 | X26: =SUM(O26:W26) -> 0
A27: 7 | B27: Coberturas de información: antes, durante y después de la ejecución de proyectos, actividades, gestiones, tareas y obras, impulsadas por el GAD Provincial de Santo Domingo de los Tsáchilas. | O27: 0 | X27: =SUM(O27:W27) -> 0
A28: 8 | B28: Monitoreo informativo de los medios de comunicación masiva | O28: 0 | X28: =SUM(O28:W28) -> 0
A29: 9 | B29: Conducción de eventos institucionales | O29: 0 | X29: =SUM(O29:W29) -> 0
A30: 10 | B30: Fortalecimiento institucional (comunicación interna) | O30: 0 | X30: =SUM(O30:W30) -> 0
A31: 11 | B31: Archivo fotográfico | O31: 0 | X31: =SUM(O31:W31) -> 0
A32: 12 | B32: Archivo digital (videos) | O32: 0 | X32: =SUM(O32:W32) -> 0
... A43: 23 | B43: Trámite de contratación de publicidad | O43: 0 | X43: =SUM(O43:W43) -> 0
A44: 24 | B44: Contratación del servicio de monitoreo de publicidad institucional, de programas institucionales y medición de impacto. | O44: 13000 | W44: -13000 | X44: =SUM(O44:W44) -> 0 | Y44: 32.73.02.41 | Z44: Servicio de Monitoreo de la Información en Televisión, Radio, Prensa, Medios On-Line y Otros
A45: 25 | B45: Pago de servicio de monitoreo de publicidad institucional, de programas institucionales y medición de impacto-año 2024 | O45: 3250 | Q45: -3250 | X45: =SUM(O45:W45) -> 0 | Y45: 32.73.02.41 | Z45: Servicio de Monitoreo de la Información en Televisión, Radio, Prensa, Medios On-Line y Otros
A46: 26 | B46: Contratación del servicio de difusión en redes sociales de la gestión del GAD Provincial para transparentar la información. | O46: 9275 | Q46: -2775 | T46: 3500 | X46: =SUM(O46:W46) -> 10000 | Y46: 32.73.02.07 | Z46: Difusión, información y publicidad
A47: 27 | B47: Contratación del personal para la ejecución del proyecto “Posicionamiento institucional del GAD Provincial de Santo Domingo de los Tsáchilas” | O47: 23340 | X47: =SUM(O47:W47) -> 23340 | Y47: 32.71.05.10 | Z47: Servicios personales por contrato
O48: 1945 | X48: =SUM(O48:W48) -> 1945 | Y48: 32.71.02.03 | Z48: Décimo tercer sueldo
O49: 950 | X49: =SUM(O49:W49) -> 950 | Y49: 32.71.02.04 | Z49: Décimo cuarto sueldo
O50: 2720 | X50: =SUM(O50:W50) -> 2720 | Y50: 32.71.06.01 | Z50: Aporte Patronal
O51: 1945 | X51: =SUM(O51:W51) -> 1945 | Y51: 32.71.06.02 | Z51: Fondos de reserva
O52: 1895 | W52: -950 | X52: =SUM(O52:W52) -> 945 | Y52: 32.71.07.07 | Z52: Compensación por vacaciones no gozadas por cesación de funciones
...

Sheet Resumen
A9: RESUMEN POA 2025 DE LA DIRECCIÓN DE GESTIÓN DE COMUNICACIÓN
A10: Nº | B10: Proyecto | C10: Valor Asignado | D10: I Reforma | E10: II Reforma | F10: III Reforma | G10: IV Reforma | H10: V Reforma | I10: VI Reforma | J10: VII Reforma | K10: VIII Reforma | L10: Valor Total | M10: VALOR A CONTRATAR | N10: OTROS VALORES
A11: 1 | B11: Posicionamiento institucional del Gobierno Autónomo Descentralizado Provincial de Santo Domingo de los Tsáchilas | C11: =Posicionamiento!O103 -> 250000 | D11: =Posicionamiento!P103 -> 0 | E11: =Posicionamiento!Q103 -> 0 | F11: =Posicionamiento!R103 -> 0 | G11: =Posicionamiento!S103 -> 0 | H11: =Posicionamiento!T103 -> 10000 | I11: =Posicionamiento!U103 -> 0 | J11: =Posicionamiento!V103 -> 0 | ... L11: =Posicionamiento!X103 -> 92000
B12: TOTAL | C12: =SUM(C11:C11) -> 250000 | D12: =SUM(D11:D11) -> 0 | E12: =SUM(E11:E11) -> 0 | F12: =SUM(F11:F11) -> 0 | G12: =SUM(G11:G11) -> 0 | H12: =SUM(H11:H11) -> 10000 | I12: =SUM(I11:I11) -> 0 | J12: =SUM(J11:J11) -> 0 | ... N12: =SUM(N11:N11) -> 0
