Workbook

Sheet Posicionamiento
C1: PLAN OPERATIVO ANUAL 2025
C2: Dirección / Unidad: | K2: Gestión de Comunicación
C3: Periodo de ejecución: | K3: Enero – diciembre
A5: Objetivos de Desarrollo Sostenibles | B5: Garantizar una vida sana y promover el bienestar para todos en todas las edades
A6: Objetivos Nacionales: | B6: Propender la construcción de un Estado eficiente, transparente y orientado al bienestar social
A7: Objetivos Provinciales: | B7: Fortalecer la institucionalidad y gobernanza local, mediante prácticas transparentes con participación activa de la ciudadanía
A8: Objetivos Estratégicos en GPR: | B8: Incrementar el nivel de posicionamiento del Gobierno Provincial de Santo Domingo de los Tsáchilas
A9: Proyecto: | B9: Posicionamiento institucional del Gobierno Autónomo Descentralizado Provincial de Santo Domingo de los Tsáchilas
A10: Propósito: | B10: Posicionar la gestión que realiza el Gobierno Autónomo Descentralizado Provincial de Santo Domingo de los Tsáchilas
A12: Componente 1/ Resultado 1 | B12: Indicador de gestión Institucional | C12: Método de Cálculo | K12: Meta Trimestral
K13: 1 | L13: 2 | M13: 3 | N13: 4
A14: Posicionamiento en medios de comunicación masivos y alternativos | B14: Porcentaje de la población que se ha informado de la gestión del GAD Provincial a través de medios de comunicación masiva | C14: (Población informada/población encuestada) x 100 | N14: 0.65
B15: Número de cuñas difundidas | C15: Sumatoria de cuñas difundidas | M15: 4000 | N15: 4372
B16: Difusión de programas institucionales en televisión | C16: Sumatoria de programas institucionales en televisión | L16: 4 | M16: 4 | N16: 2
B17: Número de boletines de prensa elaborados | C17: Sumatoria de boletines para medios masivos y redes sociales | K17: 70 | L17: 70 | M17: 70 | N17: 70
B18: Número de publicaciones en redes sociales | C18: Sumatoria de publicaciones en redes sociales | K18: 1402 | L18: 1402 | M18: 1402 | N18: 1402
B19: Actividades | C19: Cronograma | O19: Valor Asignado | P19: I Reforma | Q19: II Reforma | R19: III Reforma | S19: IV Reforma | T19: V Reforma | U19: VI Reforma | V19: VII Reforma | W19: VIII Reforma | X19: Total | Y19: Partida
C20: E | D20: F | E20: M | F20: A | G20: M | H20: J | I20: J | J20: A | K20: S | L20: O | M20: N | N20: D | Y20: Código | Z20: Denominación
A21: 1 | B21: Elaboración de boletines de prensa | O21: 0 | X21: =SUM(O21:W21) -> 0
A22: 2 | B22: Elaboración de agenda de medios | O22: 0 | X22: =SUM(O22:W22) -> 0
A23: 3 | B23: Elaboración de guiones y propuesta creativa para la elaboración de spots, cuñas y artes gráficos | O23: 0 | X23: =SUM(O23:W23) -> 0
A24: 4 | B24: Producción y edición de cuñas publicitarias para radio, y locución de programas institucionales de televisión | O24: 0 | X24: =SUM(O24:W24) -> 0
A25: 5 | B25: Recabar, editar y producir información para espacios informativos institucionales contratados en prensa y televisión | O25: 0 | X25: =SUM(O25:W25) -> 0
A26: 6 | B26: Edición de videos informativos para medios digitales y medios de comunicación televisivos | O26: 0 | X26: =SUM(O26:W26) -> 0
A27: 7 | B27: Coberturas de información: antes, durante y después de la ejecución de proyectos, actividades, gestiones, tareas y obras, impulsadas por el GAD Provincial de Santo Domingo de los Tsáchilas. | O27: 0 | X27: =SUM(O27:W27) -> 0
A28: 8 | B28: Monitoreo informativo de los medios de comunicación masiva | O28: 0 | X28: =SUM(O28:W28) -> 0
A29: 9 | B29: Conducción de eventos institucionales | O29: 0 | X29: =SUM(O29:W29) -> 0
A30: 10 | B30: Fortalecimiento institucional (comunicación interna) | O30: 0 | X30: =SUM(O30:W30) -> 0
A31: 11 | B31: Archivo fotográfico | O31: 0 | X31: =SUM(O31:W31) -> 0
A32: 12 | B32: Archivo digital (videos) | O32: 0 | X32: =SUM(O32:W32) -> 0
... A43: 23 | B43: Trámite de contratación de publicidad | O43: 0 | X43: =SUM(O43:W43) -> 0
A44: 24 | B44: Contratación del servicio de monitoreo de publicidad institucional, de programas institucionales y medición de impacto. | O44: 13000 | W44: -13000 | X44: =SUM(O44:W44) -> 0 | Y44: 32.73.02.41 | Z44: Servicio de Monitoreo de la Información en Televisión, Radio, Prensa, Medios On-Line y Otros
A45: 25 | B45: Pago de servicio de monitoreo de publicidad institucional, de programas institucionales y medición de impacto-año 2024 | O45: 3250 | Q45: -3250 | X45: =SUM(O45:W45) -> 0 | Y45: 32.73.02.41 | Z45: Servicio de Monitoreo de la Información en Televisión, Radio, Prensa, Medios On-Line y Otros
A46: 26 | B46: Contratación del servicio de difusión en redes sociales de la gestión del GAD Provincial para transparentar la información. | O46: 9275 | Q46: -2775 | T46: 3500 | X46: =SUM(O46:W46) -> 10000 | Y46: 32.73.02.07 | Z46: Difusión, información y publicidad
A47: 27 | B47: Contratación del personal para la ejecución del proyecto “Posicionamiento institucional del GAD Provincial de Santo Domingo de los Tsáchilas” | O47: 23340 | X47: =SUM(O47:W47) -> 23340 | Y47: 32.71.05.10 | Z47: Servicios personales por contrato
O48: 1945 | X48: =SUM(O48:W48) -> 1945 | Y48: 32.71.02.03 | Z48: Décimo tercer sueldo
O49: 950 | X49: =SUM(O49:W49) -> 950 | Y49: 32.71.02.04 | Z49: Décimo cuarto sueldo
O50: 2720 | X50: =SUM(O50:W50) -> 2720 | Y50: 32.71.06.01 | Z50: Aporte Patronal
O51: 1945 | X51: =SUM(O51:W51) -> 1945 | Y51: 32.71.06.02 | Z51: Fondos de reserva
O52: 1895 | W52: -950 | X52: =SUM(O52:W52) -> 945 | Y52: 32.71.07.07 | Z52: Compensación por vacaciones no gozadas por cesación de funciones
A53: 28 | B53: Contratación de servicio de laboratorio para realizar exámenes ocupacionales de preempleo, periódicos y retiro al personal del proyecto de comunicación, bajo régimen de la LOSEP del GADPSDT | O53: 200 | X53: =SUM(O53:W53) -> 200 | Y53: 32.73.02.26 | Z53: Servicios médicos hospitalarios y complementarios
A54: 29 | B54: Adquisición de equipo de protección para el personal del proyecto de comunicación (casco de seguridad, impermeable, botas de caucho con punta de acero. | O54: 300 | Q54: -300 | X54: =SUM(O54:W54) -> 0 | Y54: 32.73.08.02 | Z54: Vestuario, Lencería, Prendas de Protección, Insumos y Accesorios para uniformes del personal de Protección, Vigilancia y Seguridad
A55: 30 | B55: Elaborar memorandos, Kardex, sacar copias de procesos, escanear documentación y otros trámites habilitantes incluidos en el proceso de contratación y ejecución de las actividades | O55: 0 | X55: =SUM(O55:W55) -> 0
A56: 31 | B56: Escuchar y ver CD que proveedores de servicios presentan como respaldo para el pago, para verificar cumplimiento de contrato | O56: 0 | X56: =SUM(O56:W56) -> 0
A57: 32 | B57: Elaborar actas e informes de conformidad con los procesos contratados por la dirección de Gestión Comunicación, y otros trámites administrativos habilitantes | O57: 0 | X57: =SUM(O57:W57) -> 0
A58: 33 | B58: Pago de servicio de pautaje y difusión de información institucional para la creación de planes de medios y colocación en espacios radiales, televisivos, prensa escrita, programas pregrabados de televisión, elaboración y producción de videos, spots y cuñas, para difundir actividades, obras y proyectos del Gobierno Autónomo Descentralizado Provincial de Santo Domingo de los Tsáchilas | O58: 15000 | Q58: -15000 | X58: =SUM(O58:W58) -> 0 | Y58: 32.73.02.07 | Z58: Difusión, información y publicidad
A59: 34 | B59: Contratación de agencia de publicidad para la difusión de información institucional para la creación de planes de medios y colocación de espacios radiales, televisivos, prensa escrita, programas pregrabados de televisión, elaboración y producción de videos, spots y cuñas, para difundir actividades, obras y proyectos del Gobierno Autónomo Descentralizado Provincial de Santo Domingo de los Tsáchilas. | O59: 140000 | Q59: 10000 | W59: -146550 | X59: =SUM(O59:W59) -> 3450 | Y59: 32.73.02.07 | Z59: Difusión, información y publicidad
A60: 35 | B60: Pago de horas extras al personal del proyecto | O60: 4000 | W60: -2000 | X60: =SUM(O60:W60) -> 2000 | Y60: 32.71.05.09 | Z60: Horas extraordinarias y suplementarias
A61: 36 | B61: Pago de horas extras personal de la LOSEP | O61: 4000 | W61: -4000 | X61: =SUM(O61:W61) -> 0 | Y61: 32.71.05.09 | Z61: Horas extraordinarias y suplementarias
A62: 37 | B62: Pago de servicio de difusión en redes sociales de la gestión del GAD Provincial para transparentar la información. | T62: 6500 | X62: =SUM(O62:W62) -> 6500 | Y62: 32.73.02.07 | Z62: Difusión, información y publicidad
B63: TOTAL COMPONENTE 1 | O63: =SUM(O21:O62) -> 221820 | P63: =SUM(P21:P62) -> 0 | Q63: =SUM(Q21:Q62) -> -11325 | R63: =SUM(R21:R62) -> 0 | S63: =SUM(S21:S62) -> 0 | T63: =SUM(T21:T62) -> 10000 | U63: =SUM(U21:U62) -> 0 | V63: =SUM(V21:V62) -> 0 | ... X63: =SUM(X21:X62) -> 53995
A65: Componente 2/ Resultado 2 | B65: Indicador de gestión Institucional | C65: Método de cálculo | K65: Meta Trimestral
K66: 1 | L66: 2 | M66: 3 | N66: 4
A67: Imagen corporativa difundida | B67: Número de diseños gráficos entregados | C67: Sumatoria de diseños gráficos entregados | K67: 250 | L67: 250 | M67: 250 | N67: 250
B68: Número de productos audiovisuales difundidos | C68: Sumatoria de productos audiovisuales difundidos | K68: 150 | L68: 150 | M68: 150 | N68: 150
B69: Número de productos gráficos entregados | C69: Sumatoria de productos gráficos entregados | K69: 3000 | L69: 3000 | M69: 3000 | N69: 3000
B70: Actividades | C70: Cronograma | O70: Valor Asignado | P70: I Reforma | Q70: II Reforma | R70: III Reforma | S70: IV Reforma | T70: V Reforma | U70: VI Reforma | V70: VII Reforma | W70: VIII Reforma | X70: Total | Y70: Partida
C71: E | D71: F | E71: M | F71: A | G71: M | H71: J | I71: J | J71: A | K71: S | L71: O | M71: N | N71: D | Y71: Código | Z71: Denominación
A72: 1 | B72: Elaboración de términos de referencia y trámite para la contratación de servicios | O72: 0 | X72: =SUM(O72:W72) -> 0
A73: 2 | B73: Diseño o edición de materiales y productos para impresión | O73: 0 | X73: =SUM(O73:W73) -> 0
A74: 3 | B74: Adquisición de material impreso y productos publicitarios de exhibición e informativos | O74: 10420 | Q74: 1180 | X74: =SUM(O74:W74) -> 11600 | Y74: 32.73.08.07 | Z74: Materiales de impresión, fotografía, reproducción y publicaciones
A75: 4 | B75: Elaboración y diseño de ayudas memorias para autoridades y técnicos | O75: 0 | X75: =SUM(O75:W75) -> 0
A76: 5 | B76: Elaboración de diapositivas para autoridades y direcciones del GADPSDT | O76: 0 | X76: =SUM(O76:W76) -> 0
A77: 6 | B77: Elaboración de contenido y diseño para carteleras | O77: 0 | X77: =SUM(O77:W77) -> 0
A78: 7 | B78: Elaboración de memorandos, informes de conformidad y actas de entrega recepción de bienes contratados y gestión de otros documentos habilitantes | O78: 0 | X78: =SUM(O78:W78) -> 0
A79: 8 | B79: Elaboración de actas de entrega de materiales de impresión a las diversas direcciones del GADSDP requirentes | O79: 0 | X79: =SUM(O79:W79) -> 0
B80: TOTAL COMPONENTE 2 | O80: =SUM(O72:O79) -> 10420 | P80: =SUM(P72:P79) -> 0 | Q80: =SUM(Q72:Q79) -> 1180 | R80: =SUM(R72:R79) -> 0 | S80: =SUM(S72:S79) -> 0 | T80: =SUM(T72:T79) -> 0 | U80: =SUM(U72:U79) -> 0 | V80: =SUM(V72:V79) -> 0 | ... X80: =SUM(X72:X79) -> 11600
A82: Componente 3/ Resultado 3 | B82: Indicador de gestión Institucional | C82: Método de cálculo | K82: Meta Trimestral
K83: 1 | L83: 2 | M83: 3 | N83: 4
A84: Fortalecimiento tecnológico | B84: 100% equipamiento para fortalecer la dirección de Gestión de Comunicación | C84: % de equipamiento ejecutado (%) | N84: 1
B85: Actividades | C85: Cronograma | O85: Valor Asignado | P85: I Reforma | Q85: II Reforma | R85: III Reforma | S85: IV Reforma | T85: V Reforma | U85: VI Reforma | V85: VII Reforma | W85: VIII Reforma | X85: Total | Y85: Partida
C86: E | D86: F | E86: M | F86: A | G86: M | H86: J | I86: J | J86: A | K86: S | L86: O | M86: N | N86: D | Y86: Código | Z86: Denominación
A87: 1 | B87: Elaboración de términos de referencia y trámite para la contratación | O87: 0 | X87: =SUM(O87:W87) -> 0
A88: 2 | B88: Adquisición de dispositivo de almacenamiento de red | O88: 6300 | X88: =SUM(O88:W88) -> 6300 | Y88: 32.84.01.07 | Z88: Equipo electrónico/unidad de almacenamiento
A89: 3 | B89: Adquisición de computadora para la dirección de Gestión de Comunicación | O89: 1000 | Q89: 400 | X89: =SUM(O89:W89) -> 1400 | Y89: 32.84.01.07 | Z89: Equipos, sistemas y paquetes informáticos
A90: 4 | B90: Pago mantenimiento de computadoras (adquisición año 2022) | O90: 400 | Q90: -400 | X90: =SUM(O90:W90) -> 0 | Y90: 32.73.07.04 | Z90: Mantenimiento y Reparación de Equipos y Sistemas Informáticos
A91: 5 | B91: Adquisición de armarios | O91: 1000 | W91: -1000 | X91: =SUM(O91:W91) -> 0 | Y91: 32.84.01.03 | Z91: Mobiliarios
A92: 6 | B92: Adquisición de equipo escáner por catálogo electrónico | O92: 2760 | Q92: -1760 | X92: =SUM(O92:W92) -> 1000 | Y92: 32.84.01.07 | Z92: Equipos, sistemas y paquetes informáticos
A93: 7 | B93: Adquisición de equipos de comunicación y accesorios | O93: 6300 | Q93: -6300 | X93: =SUM(O93:W93) -> 0 | Y93: 32.84.01.07 | Z93: Equipos, sistemas y paquetes informáticos
A94: 8 | B94: Adquisición de equipamiento para la producción y almacenamiento de audiovisuales, repuestos y accesorios, incluye mantenimiento | Q94: 190 | X94: =SUM(O94:W94) -> 190 | Y94: 32.84.01.07 | Z94: Equipos, sistemas y paquetes informáticos
Q95: 100 | X95: =SUM(O95:W95) -> 100 | Y95: 32.73.14.04 | Z95: Maquinarias y Equipos
Q96: 15086 | X96: =SUM(O96:W96) -> 15086 | Y96: 32.84.01.04 | Z96: Maquinarias y Equipos
Q97: 500 | W97: -500 | X97: =SUM(O97:W97) -> 0 | Y97: 32.84.01.03 | Z97: Mobiliarios
Q98: 1129 | X98: =SUM(O98:W98) -> 1129 | Y98: 32.73.08.13 | Z98: Repuestos y accesorios
Q99: 400 | X99: =SUM(O99:W99) -> 400 | Y99: 32.73.07.04 | Z99: Mantenimiento y Reparación de Equipos y Sistemas Informáticos
A100: 9 | B100: Adquisición de aire acondicionado para la dirección de Gestión de Comunicación | Q100: 800 | X100: =SUM(O100:W100) -> 800 | Y100: 32.84.01.04 | Z100: Maquinarias y Equipos
B101: TOTAL COMPONENTE 3 | O101: =SUM(O87:O100) -> 17760 | P101: =SUM(P87:P100) -> 0 | Q101: =SUM(Q87:Q100) -> 10145 | R101: =SUM(R87:R100) -> 0 | S101: =SUM(S87:S100) -> 0 | T101: =SUM(T87:T100) -> 0 | U101: =SUM(U87:U100) -> 0 | V101: =SUM(V87:V100) -> 0 | ... X101: =SUM(X87:X100) -> 26405
B103: TOTAL PROYECTO | O103: =O63+O80+O101 -> 250000 | P103: =P63+P80+P101 -> 0 | Q103: =Q63+Q80+Q101 -> 0 | R103: =R63+R80+R101 -> 0 | S103: =S63+S80+S101 -> 0 | T103: =T63+T80+T101 -> 10000 | U103: =U63+U80+U101 -> 0 | V103: =V63+V80+V101 -> 0 | ... X103: =X63+X80+X101 -> 92000

Sheet Resumen
A9: RESUMEN POA 2025 DE LA DIRECCIÓN DE GESTIÓN DE COMUNICACIÓN
A10: Nº | B10: Proyecto | C10: Valor Asignado | D10: I Reforma | E10: II Reforma | F10: III Reforma | G10: IV Reforma | H10: V Reforma | I10: VI Reforma | J10: VII Reforma | K10: VIII Reforma | L10: Valor Total | M10: VALOR A CONTRATAR | N10: OTROS VALORES
A11: 1 | B11: Posicionamiento institucional del Gobierno Autónomo Descentralizado Provincial de Santo Domingo de los Tsáchilas | C11: =Posicionamiento!O103 -> 250000 | D11: =Posicionamiento!P103 -> 0 | E11: =Posicionamiento!Q103 -> 0 | F11: =Posicionamiento!R103 -> 0 | G11: =Posicionamiento!S103 -> 0 | H11: =Posicionamiento!T103 -> 10000 | I11: =Posicionamiento!U103 -> 0 | J11: =Posicionamiento!V103 -> 0 | ... L11: =Posicionamiento!X103 -> 92000
B12: TOTAL | C12: =SUM(C11:C11) -> 250000 | D12: =SUM(D11:D11) -> 0 | E12: =SUM(E11:E11) -> 0 | F12: =SUM(F11:F11) -> 0 | G12: =SUM(G11:G11) -> 0 | H12: =SUM(H11:H11) -> 10000 | I12: =SUM(I11:I11) -> 0 | J12: =SUM(J11:J11) -> 0 | ... N12: =SUM(N11:N11) -> 0
